BEGIN:VCALENDAR
VERSION:2.0
PRODID:-//prosforazoisalmopia - ECPv6.13.2.1//NONSGML v1.0//EN
CALSCALE:GREGORIAN
METHOD:PUBLISH
X-WR-CALNAME:prosforazoisalmopia
X-ORIGINAL-URL:https://prosforazoisalmopia.gr
X-WR-CALDESC:prosforazoisalmopia - Εκδηλώσεις
REFRESH-INTERVAL;VALUE=DURATION:PT1H
X-Robots-Tag:noindex
X-PUBLISHED-TTL:PT1H
BEGIN:VTIMEZONE
TZID:Europe/Helsinki
BEGIN:DAYLIGHT
TZOFFSETFROM:+0200
TZOFFSETTO:+0300
TZNAME:EEST
DTSTART:20230326T010000
END:DAYLIGHT
BEGIN:STANDARD
TZOFFSETFROM:+0300
TZOFFSETTO:+0200
TZNAME:EET
DTSTART:20231029T010000
END:STANDARD
END:VTIMEZONE
BEGIN:VEVENT
DTSTART;TZID=Europe/Helsinki:20230406T080000
DTEND;TZID=Europe/Helsinki:20230406T130000
DTSTAMP:20260423T190129
CREATED:20230401T091101Z
LAST-MODIFIED:20230401T092814Z
UID:3965-1680768000-1680786000@prosforazoisalmopia.gr
SUMMARY:Αιμοπεταλιαφαίρεση 06/04/2023
DESCRIPTION:Την Πέμπτη 06/04/2023 είναι το ραντεβού μας για την προσφορά αιμοπεταλίων στον άγνωστο συνάνθρωπό μας. \n4 άτομα θα μεταφερθούν με το βαν του Δήμου Αλμωπίας και της ΔΗΚΕΑ στο Γ.Ν. Θ. Γ. Παπανικολάου. \nΕυχαριστούμε το Δήμο Αλμωπίας και τη ΔΗΚΕΑ για την ασφαλή μεταφορά των αιμοπεταλιοδοτών μας. \nΕυχαριστούμε τον κο Ιωάννη Καμενίδη “Φωτοβολταϊκά Καμενίδης – Thallos energy“” για την παροχή πρωινού στους αιμοπεταλιοδότες και τον οδηγό.
URL:https://prosforazoisalmopia.gr/event/%ce%b1%ce%b9%ce%bc%ce%bf%cf%80%ce%b5%cf%84%ce%b1%ce%bb%ce%b9%ce%b1%cf%86%ce%b1%ce%af%cf%81%ce%b5%cf%83%ce%b7-06-04-2023/
LOCATION:Τμήμα αιμοδοσίας και αιμοπεταλιοδοσίας Γ.Ν.Θ. Γ. Παπανικολάου\, Λεωφόρος Παπανικολάου 10\, Δήμος Χορτιάτη\, Εξοχή\, 57010\, Ελλάδα
CATEGORIES:Αιμοπεταλιαφαίρεση
ATTACH;FMTTYPE=image/jpeg:https://prosforazoisalmopia.gr/wp-content/uploads/2021/03/eisodos.jpg
END:VEVENT
BEGIN:VEVENT
DTSTART;TZID=Europe/Helsinki:20230421T113000
DTEND;TZID=Europe/Helsinki:20230421T123000
DTSTAMP:20260423T190129
CREATED:20230421T065224Z
LAST-MODIFIED:20230421T065224Z
UID:4360-1682076600-1682080200@prosforazoisalmopia.gr
SUMMARY:Αιμοπεταλιαφαίρεση 21/04/2023
DESCRIPTION:Το Γ.Ν. Θ. Γ. Παπανικολάου μας χρειάζεται εκτάκτως και οι φίλοι από Θεσσαλονίκη είναι διπλά σε όλους για την προσφορά αιμοπεταλίων.
URL:https://prosforazoisalmopia.gr/event/%ce%b1%ce%b9%ce%bc%ce%bf%cf%80%ce%b5%cf%84%ce%b1%ce%bb%ce%b9%ce%b1%cf%86%ce%b1%ce%af%cf%81%ce%b5%cf%83%ce%b7-21-04-2023/
LOCATION:Τμήμα αιμοδοσίας και αιμοπεταλιοδοσίας Γ.Ν.Θ. Γ. Παπανικολάου\, Λεωφόρος Παπανικολάου 10\, Δήμος Χορτιάτη\, Εξοχή\, 57010\, Ελλάδα
END:VEVENT
BEGIN:VEVENT
DTSTART;TZID=Europe/Helsinki:20230429T100000
DTEND;TZID=Europe/Helsinki:20230429T130000
DTSTAMP:20260423T190129
CREATED:20230407T150832Z
LAST-MODIFIED:20230407T150832Z
UID:4072-1682762400-1682773200@prosforazoisalmopia.gr
SUMMARY:Δειγματοληψία μυελού των οστών 29/04/2023
DESCRIPTION:Ο Σύλλογος Προσφορά Ζωής συμμετέχει στις εκδηλώσεις της ανθοέκθεσης της Σκύδρας Ν. Πέλλας. \n10:00 – 13:00 θα βρισκόμαστε στην πλατεία Σαφραμπόλεως Σκύδρας όπου θα ενημερώνουμε για τη δωρεά μυελού των οστών και παράλληλα θα γίνετε και δειγματοληψία εθελοντών δοτών μυελού των οστών.
URL:https://prosforazoisalmopia.gr/event/%ce%b4%ce%b5%ce%b9%ce%b3%ce%bc%ce%b1%cf%84%ce%bf%ce%bb%ce%b7%cf%88%ce%af%ce%b1-%ce%bc%cf%85%ce%b5%ce%bb%ce%bf%cf%8d-%cf%84%cf%89%ce%bd-%ce%bf%cf%83%cf%84%cf%8e%ce%bd-29-04-2023/
ATTACH;FMTTYPE=image/png:https://prosforazoisalmopia.gr/wp-content/uploads/2022/01/orama-elpidas.png
END:VEVENT
BEGIN:VEVENT
DTSTART;TZID=Europe/Helsinki:20230430T100000
DTEND;TZID=Europe/Helsinki:20230430T130000
DTSTAMP:20260423T190129
CREATED:20230407T151343Z
LAST-MODIFIED:20230407T151343Z
UID:4075-1682848800-1682859600@prosforazoisalmopia.gr
SUMMARY:Δειγματοληψία εθελοντών δοτών μυελού των οστών 30/04/2023
DESCRIPTION:Ο Σύλλογος Προσφορά Ζωής συμμετέχει στις εκδηλώσεις της ανθοέκθεσης της Σκύδρας Ν. Πέλλας. \n10:00 – 13:00 θα βρισκόμαστε στην πλατεία Σαφραμπόλεως Σκύδρας όπου θα ενημερώνουμε για τη δωρεά μυελού των οστών και παράλληλα θα γίνετε και δειγματοληψία εθελοντών δοτών μυελού των οστών.
URL:https://prosforazoisalmopia.gr/event/%ce%b4%ce%b5%ce%b9%ce%b3%ce%bc%ce%b1%cf%84%ce%bf%ce%bb%ce%b7%cf%88%ce%af%ce%b1/
LOCATION:Σκύδρα
CATEGORIES:Δειγματοληψία μυελού των οστών
ATTACH;FMTTYPE=image/png:https://prosforazoisalmopia.gr/wp-content/uploads/2022/01/orama-elpidas.png
END:VEVENT
END:VCALENDAR