BEGIN:VCALENDAR
VERSION:2.0
PRODID:-//prosforazoisalmopia - ECPv6.13.2.1//NONSGML v1.0//EN
CALSCALE:GREGORIAN
METHOD:PUBLISH
X-WR-CALNAME:prosforazoisalmopia
X-ORIGINAL-URL:https://prosforazoisalmopia.gr
X-WR-CALDESC:prosforazoisalmopia - Εκδηλώσεις
REFRESH-INTERVAL;VALUE=DURATION:PT1H
X-Robots-Tag:noindex
X-PUBLISHED-TTL:PT1H
BEGIN:VTIMEZONE
TZID:Europe/Helsinki
BEGIN:DAYLIGHT
TZOFFSETFROM:+0200
TZOFFSETTO:+0300
TZNAME:EEST
DTSTART:20230326T010000
END:DAYLIGHT
BEGIN:STANDARD
TZOFFSETFROM:+0300
TZOFFSETTO:+0200
TZNAME:EET
DTSTART:20231029T010000
END:STANDARD
END:VTIMEZONE
BEGIN:VEVENT
DTSTART;TZID=Europe/Helsinki:20230226T183000
DTEND;TZID=Europe/Helsinki:20230226T220000
DTSTAMP:20260423T221812
CREATED:20230227T073014Z
LAST-MODIFIED:20230306T064318Z
UID:3794-1677436200-1677448800@prosforazoisalmopia.gr
SUMMARY:Γενική Συνέλευση 06/03/2023
DESCRIPTION:Ο Σύλλογος Εθελοντών Αιμοπεταλιοδοτών Αιμοδοτών και δωρητών μυελού των οστών Αλμωπίας «Προσφορά Ζωής» σας προσκαλεί στην Ετήσια Γενική Συνέλευση\,  που θα πραγματοποιηθεί σε οριστική\, λόγω συνήθους μη απαρτίας την πρώτη ημερομηνία\, την Δευτέρα 6/3/2023 και ώρα 18:30μ.μ στην ΑΙΘΟΥΣΑ ΣΥΝΕΔΡΙΑΣΕΩΝ του ΔΗΜΟΤΙΚΟΥ ΣΥΜΒΟΥΛΙΟΥ του ΔΗΜΟΥ ΑΡΙΔΑΙΑΣ. \nΘέματα Γενικής Συνέλευσης \n\nΔιοικητικός απολογισμός ΔΣ\nΟικονομικός Απολογισμός του ΔΣ της περιόδου 1/1-31/12/2022.\nΈκθεση Εξελεγκτικής Επιτροπής της περιόδου 1/1-31/12/2022.\nΠροϋπολογισμός Έτους 2023.\nΕκλογή Μελών Εφορευτικής Επιτροπής.\nΑρχαιρεσίες για την Ανάδειξη του Νέου Διοικητικού Συμβούλιου και την ανάδειξη Νέας Εξελεγκτικής Επιτροπής του Συλλόγου. (Βάσει του Καταστατικού\, άρθρο 14 η θητεία είναι διετής).\nΕκλογή αντιπροσώπων για την Πανελλήνια Ομοσπονδία Συλλόγων Εθελοντών Αιμοδοτών (Π.Ο.Σ.Ε.Α.)\n\nΕνημερώνουμε ότι όποιος  επιθυμεί να είναι υποψήφιος\, παρακαλούμε\, το αργότερο μέχρι την Παρασκευή 4/3/2023\, να ενημερώσει στο email:prosforazoisalmopia@gmail.com ή να στείλει μήνυμα στη σελίδα του Facebook ή καλώντας στο τηλέφωνο 6955 508219. \nΑπαραίτητη προϋπόθεση για υποψηφιότητα στο Δ.Σ.  είναι ο υποψήφιος να είναι ταμειακώς εντάξει (συνδρομή/ανανέωση ) το αργότερο ως την  Παρασκευή 4/3/2023. \nΠριν την έναρξη της Γενικής Συνέλευσης και από τις 17:30 έως τις 18:30 θα πραγματοποιούνται οι εγγραφές νέων μελών και ανανεώσεις συνδρομών \n( εγγραφή νέου μέλους:5€\, ανανέωση συνδρομής 5€/έτος ). \nΓια το Δ. Σ. του  Σ.Ε.Α. Αλμωπίας «Προσφορά Ζωής» \nΟ Πρόεδρος \nΧρυσίδης Κυριάκος \nΗ Γεν. Γραμματέας \nΕγγλέζου Μαρία
URL:https://prosforazoisalmopia.gr/event/%ce%b3%ce%b5%ce%bd%ce%b9%ce%ba%ce%ae-%cf%83%cf%85%ce%bd%ce%ad%ce%bb%ce%b5%cf%85%cf%83%ce%b7-06-03-2023/
CATEGORIES:Category Event
ATTACH;FMTTYPE=image/jpeg:https://prosforazoisalmopia.gr/wp-content/uploads/2023/02/ΕΚΛΟΓΕς.jpg
END:VEVENT
END:VCALENDAR