BEGIN:VCALENDAR
VERSION:2.0
PRODID:-//prosforazoisalmopia - ECPv6.13.2.1//NONSGML v1.0//EN
CALSCALE:GREGORIAN
METHOD:PUBLISH
X-WR-CALNAME:prosforazoisalmopia
X-ORIGINAL-URL:https://prosforazoisalmopia.gr
X-WR-CALDESC:prosforazoisalmopia - Εκδηλώσεις
REFRESH-INTERVAL;VALUE=DURATION:PT1H
X-Robots-Tag:noindex
X-PUBLISHED-TTL:PT1H
BEGIN:VTIMEZONE
TZID:Europe/Helsinki
BEGIN:DAYLIGHT
TZOFFSETFROM:+0200
TZOFFSETTO:+0300
TZNAME:EEST
DTSTART:20230326T010000
END:DAYLIGHT
BEGIN:STANDARD
TZOFFSETFROM:+0300
TZOFFSETTO:+0200
TZNAME:EET
DTSTART:20231029T010000
END:STANDARD
END:VTIMEZONE
BEGIN:VEVENT
DTSTART;TZID=Europe/Helsinki:20230126T080000
DTEND;TZID=Europe/Helsinki:20230126T170000
DTSTAMP:20260423T235018
CREATED:20230125T180728Z
LAST-MODIFIED:20230206T181432Z
UID:3784-1674720000-1674752400@prosforazoisalmopia.gr
SUMMARY:Αιμοπεταλιαφαίρεση 26/01/2023
DESCRIPTION:3 άτομα προσφέρουν τα αιμοπετάλια τους στο Γ.Ν. Θ. Γ. Παπανικολάου. \nΕυχαριστούμε την Ναυσικά Κεχαγιά Αγιαννίτη\, τον Βασίλη Καραδήμο και τον Γιάννη Γκαβάρνο για το χρόνο που διέθεσαν. \nΕυχαριστούμε το Δήμο Αλμωπίας και τη ΔΗΚΕΑ για την παραχωρήση οδηγού και αυτοκινήτου για τη μεταφορά τους. \n 
URL:https://prosforazoisalmopia.gr/event/%ce%b1%ce%b9%ce%bc%ce%bf%cf%80%ce%b5%cf%84%ce%b1%ce%bb%ce%b9%ce%b1%cf%86%ce%b1%ce%af%cf%81%ce%b5%cf%83%ce%b7-26-01-2023/
LOCATION:Τμήμα αιμοδοσίας και αιμοπεταλιοδοσίας Γ.Ν.Θ. Γ. Παπανικολάου\, Λεωφόρος Παπανικολάου 10\, Δήμος Χορτιάτη\, Εξοχή\, 57010\, Ελλάδα
CATEGORIES:Αιμοπεταλιαφαίρεση
ATTACH;FMTTYPE=image/jpeg:https://prosforazoisalmopia.gr/wp-content/uploads/2021/03/ainopetalioafairesi-nosokomeioy.jpg
END:VEVENT
END:VCALENDAR