BEGIN:VCALENDAR
VERSION:2.0
PRODID:-//prosforazoisalmopia - ECPv6.13.2.1//NONSGML v1.0//EN
CALSCALE:GREGORIAN
METHOD:PUBLISH
X-WR-CALNAME:prosforazoisalmopia
X-ORIGINAL-URL:https://prosforazoisalmopia.gr
X-WR-CALDESC:prosforazoisalmopia - Εκδηλώσεις
REFRESH-INTERVAL;VALUE=DURATION:PT1H
X-Robots-Tag:noindex
X-PUBLISHED-TTL:PT1H
BEGIN:VTIMEZONE
TZID:Europe/Helsinki
BEGIN:DAYLIGHT
TZOFFSETFROM:+0200
TZOFFSETTO:+0300
TZNAME:EEST
DTSTART:20220327T010000
END:DAYLIGHT
BEGIN:STANDARD
TZOFFSETFROM:+0300
TZOFFSETTO:+0200
TZNAME:EET
DTSTART:20221030T010000
END:STANDARD
END:VTIMEZONE
BEGIN:VEVENT
DTSTART;TZID=Europe/Helsinki:20220512T103000
DTEND;TZID=Europe/Helsinki:20220512T123000
DTSTAMP:20260424T141114
CREATED:20220504T154707Z
LAST-MODIFIED:20220509T155618Z
UID:3356-1652351400-1652358600@prosforazoisalmopia.gr
SUMMARY:Παρουσίαση 12/05/2022
DESCRIPTION:Ο Σύλλογος “Προσφορά Ζωής” προσκλήθηκε από το Επαγγελματικό Λύκειο Αριδαίας σε μια εκδήλωση που θα πραγματοποιήσουν οι καθηγητές του Λυκείου για τα ωφέλη της αιμοδοσίας΄και των παραγώγων του αίματος. \nΣτην εκδήλωση  θα μιλήσουν  γιατροί από την αιμοδοσία του Νοσοκομείου Έδεσσας. \nΕπίσης θα παρευρεθεί η κα Πόπη Παρασκευά από την Πτολεμαΐδα. \n«Πόπη Παρασκευά ή αλλιώς  η “super” μαμά  του Ανδρόνικου\, του Άκη μας\, και της Κικής. \nΟ Άκης\, που νόσησε από λευχαιμία\, έλεγε στην super μαμά του “Μαμά όταν μεγαλώσω θα βρω το φάρμακο για να σταματήσουν να πεθαίνουν παιδιά από την λευχαιμία και όταν βγω νικητής  θέλω να κάνω όσους περισσότερους εθελοντές  δότες μυελού των οστών μπορώ”!!! αυτή η ευχή ήταν που έμεινε στην καρδιά́ της Πόπης και δεν σταμάτησε ποτέ  να την σκέφτεται όλες τις ημέρες που έμειναν στο νοσοκομείο. \nΟ Άκης μπορεί να ζήτησε ένα καινούριο υπολογιστή  και το Make-A-Wish να του εκπλήρωσε την ευχή του\, η μαμά του όμως έκανε πράξη την άλλη ευχή του Ανδρόνικου\, τον εθελοντισμό. Όταν έπρεπε να βρεθεί δότης για τον Άκη\, οι συμμαθητές του\, οι καθηγητές και ο Σύλλογος Γονέων του 1ου Γυμνασίου Πτολεμαΐδας\, το σχολείο του Άκη\,  ξεσήκωσαν μια ολόκληρη πόλη\, την Πτολεμαΐδα\, και σε μία μέρα εγράφησαν 700 νέοι εθελοντές δότες\,  καταγράφοντας ρεκόρ νέων δοτών. \nΌταν ο Άκης\, αυτό το αγγελούδι\, ο ¨Αστερόσκονος¨ της Πόπης\, κατάλαβε ότι θα έφευγε για το μεγάλο ταξίδι\, πηγαίνοντας να συναντήσει όλους αυτούς τους ήρωες-παιδιά που ηττήθηκαν από τον καρκίνο\, έλεγε στην μαμά του ¨Μαμά\, σε αγαπάω πολύ και δεν θέλω να σε δω να κλαις\, θέλω να χαμογελάς¨.  Γίνεται όμως μια μαμά να χάνει το παιδί της χωρίς να κλάψει και να πενθήσει?  Γίνεται. Η Πόπη έχοντας στην καρδιά και στην ψυχή της τα λόγια του Αστερόσκονου της\,  έκανε τον Πόνο Προσφορά \, και ξεκίνησε να κάνει το όνειρο  του Άκη πραγματικότητα. \nΠως το κατάφερε και τα καταφέρνει αυτή η σούπερ μαμά? Με πολλές δράσεις. Δράσεις που αφορούν άλλα παιδιά που έχουν ανάγκη\,  δράσεις για εγγραφή νέων δοτών μυελού των οστών\, δράση στήριξης του έργου του Make-A-Wish\, λόγια αγάπης\, εξομολογήσεις και συμβουλές\, κυρίως όμως η δράση πραγματοποίησης μιας ημέρας  εθελοντισμού\, της ημέρας Εθελοντισμού Ανδρόνικος\,  η οποία είναι αφιερωμένη στον Ανδρόνικο\, αλλά απευθύνεται σε όλα τα παιδιά\, ενεργοποιώντας τα στον εθελοντισμό. πηγή: https://makeawish.gr”>>
URL:https://prosforazoisalmopia.gr/event/%cf%80%cf%81%ce%bf%cf%83%cf%86%ce%bf%cf%81%ce%ac-%ce%b6%cf%89%ce%ae%cf%82/
CATEGORIES:Category Event
ATTACH;FMTTYPE=image/jpeg:https://prosforazoisalmopia.gr/wp-content/uploads/2022/05/epaggelmatiko.jpg
END:VEVENT
BEGIN:VEVENT
DTSTART;TZID=Europe/Helsinki:20220513T100000
DTEND;TZID=Europe/Helsinki:20220513T140000
DTSTAMP:20260424T141114
CREATED:20220504T155132Z
LAST-MODIFIED:20220504T155133Z
UID:3358-1652436000-1652450400@prosforazoisalmopia.gr
SUMMARY:Αιμοπεταλιαφαίρεση 13/05/2022
DESCRIPTION:Πάντα υπάρχει ανάγκη για αιμοπετάλια και εμείς είμαστε πάντα εκεί να βοηθήσουμε. \nΕυχαριστούμε το Δήμο Αλμωπίας και τη ΔΗΚΕΑ για την μεταφορά των αιμοδοτών στο Γ.Ν.Θ. Γ. Παπανικολάου
URL:https://prosforazoisalmopia.gr/event/%ce%b1%ce%b9%ce%bc%ce%bf%cf%80%ce%b5%cf%84%ce%b1%ce%bb%ce%b9%ce%b1%cf%86%ce%b1%ce%af%cf%81%ce%b5%cf%83%ce%b7-13-05-2022/
LOCATION:Τμήμα αιμοδοσίας και αιμοπεταλιοδοσίας Γ.Ν.Θ. Γ. Παπανικολάου\, Λεωφόρος Παπανικολάου 10\, Δήμος Χορτιάτη\, Εξοχή\, 57010\, Ελλάδα
CATEGORIES:Αιμοπεταλιαφαίρεση
ATTACH;FMTTYPE=image/jpeg:https://prosforazoisalmopia.gr/wp-content/uploads/2021/03/eisodos.jpg
END:VEVENT
END:VCALENDAR