BEGIN:VCALENDAR
VERSION:2.0
PRODID:-//prosforazoisalmopia - ECPv6.13.2.1//NONSGML v1.0//EN
CALSCALE:GREGORIAN
METHOD:PUBLISH
X-WR-CALNAME:prosforazoisalmopia
X-ORIGINAL-URL:https://prosforazoisalmopia.gr
X-WR-CALDESC:prosforazoisalmopia - Εκδηλώσεις
REFRESH-INTERVAL;VALUE=DURATION:PT1H
X-Robots-Tag:noindex
X-PUBLISHED-TTL:PT1H
BEGIN:VTIMEZONE
TZID:Europe/Helsinki
BEGIN:DAYLIGHT
TZOFFSETFROM:+0200
TZOFFSETTO:+0300
TZNAME:EEST
DTSTART:20220327T010000
END:DAYLIGHT
BEGIN:STANDARD
TZOFFSETFROM:+0300
TZOFFSETTO:+0200
TZNAME:EET
DTSTART:20221030T010000
END:STANDARD
END:VTIMEZONE
BEGIN:VEVENT
DTSTART;TZID=Europe/Helsinki:20220203T080000
DTEND;TZID=Europe/Helsinki:20220203T170000
DTSTAMP:20260424T190455
CREATED:20220128T163253Z
LAST-MODIFIED:20220204T164223Z
UID:3145-1643875200-1643907600@prosforazoisalmopia.gr
SUMMARY:Αιμοπεταλιαφαίρεση 03/02/2022
DESCRIPTION:Δεν μας πτοεί ούτε το κρύο ούτε ο κορονοιος. \n4 άτομα δίνουν αιμοπετάλια για να σώσουν ένα συνάνθρωπό τους.
URL:https://prosforazoisalmopia.gr/event/%ce%b1%ce%b9%ce%bc%ce%bf%cf%80%ce%b5%cf%84%ce%ac%ce%bb%ce%b9%ce%b1-3/
LOCATION:Τμήμα αιμοδοσίας και αιμοπεταλιοδοσίας Γ.Ν.Θ. Γ. Παπανικολάου\, Λεωφόρος Παπανικολάου 10\, Δήμος Χορτιάτη\, Εξοχή\, 57010\, Ελλάδα
CATEGORIES:Αιμοπεταλιαφαίρεση
ATTACH;FMTTYPE=image/jpeg:https://prosforazoisalmopia.gr/wp-content/uploads/2021/03/askoi-aimopetalion-1.jpg
END:VEVENT
BEGIN:VEVENT
DTSTART;TZID=Europe/Helsinki:20220210T080000
DTEND;TZID=Europe/Helsinki:20220210T170000
DTSTAMP:20260424T190455
CREATED:20220210T154323Z
LAST-MODIFIED:20220211T154953Z
UID:3190-1644480000-1644512400@prosforazoisalmopia.gr
SUMMARY:Αιμοπεταλιαφαιρέση 10/02/2022
DESCRIPTION:Ευτυχώς υπάρχουν και αυτοί οι φανατικοί οπαδοί στις ομάδες τους και δίνουν ζωή από την ζωή τους.\nΣτηρίζουμε και ήμαστε με αυτές τις ομάδες.\nO-\, O+\, B-\, B+\, A-\, A+\, AB-\,AB+\n\nΚαι οι ομάδες συνεχίζονται\, Παρασκευή\, Δευτέρα και Τετάρτη .\nΑν σας ενδιαφέρει η προσφορά αιμοπεταλίων επικοινωνήστε μαζί μας.\n\n\nΚουτσάκη Ηλιάννα\, Λαζάρου Σταυρούλα\, Παρούτογλου Νίκος\, Ιωάννης Θεολόγου
URL:https://prosforazoisalmopia.gr/event/%ce%b1%ce%b9%ce%bc%ce%bf%cf%80%ce%b5%cf%84%ce%ac%ce%bb%ce%b9%ce%b1-4/
LOCATION:Τμήμα αιμοδοσίας και αιμοπεταλιοδοσίας Γ.Ν.Θ. Γ. Παπανικολάου\, Λεωφόρος Παπανικολάου 10\, Δήμος Χορτιάτη\, Εξοχή\, 57010\, Ελλάδα
CATEGORIES:Αιμοπεταλιαφαίρεση
ATTACH;FMTTYPE=image/jpeg:https://prosforazoisalmopia.gr/wp-content/uploads/2022/02/10-02-2022-KOUTSAKI-THEOLOGOU-PAROUTOGLOY.jpg
END:VEVENT
BEGIN:VEVENT
DTSTART;TZID=Europe/Helsinki:20220211T080000
DTEND;TZID=Europe/Helsinki:20220211T170000
DTSTAMP:20260424T190455
CREATED:20220204T164906Z
LAST-MODIFIED:20220215T180603Z
UID:3172-1644566400-1644598800@prosforazoisalmopia.gr
SUMMARY:Αιμοπεταλιαφαίρεση 11/02/2022
DESCRIPTION:Γίνε και συ δωρητής αιμοπεταλίων. Μπορείς να βοηθήσεις ένα μικρό παιδί να χαμογελάσει ξανά.\n\nΜια όμορφη ομάδα 4 ατόμων πάει στο Γ.Ν.Θ. Γ. Παπανικολάου για να προσφέρει αιμοπετάλια. \nΑν θέλετε μπορείτε και εσείς να έρθετε στην ομάδα μας. \nΤσιμτσιρίδης Γιώργος\, Βολιώτης Νίκος\, Κησελίγκας Δημήτρης\, Λαζοπούλου Κωνσταντίνα
URL:https://prosforazoisalmopia.gr/event/%ce%b1%ce%b9%ce%bc%ce%bf%cf%80%ce%b5%cf%84%ce%b1%ce%bb%ce%b9%ce%b1%cf%86%ce%b1%ce%af%cf%81%ce%b5%cf%83%ce%b7-8/
LOCATION:Τμήμα αιμοδοσίας και αιμοπεταλιοδοσίας Γ.Ν.Θ. Γ. Παπανικολάου\, Λεωφόρος Παπανικολάου 10\, Δήμος Χορτιάτη\, Εξοχή\, 57010\, Ελλάδα
CATEGORIES:Αιμοπεταλιαφαίρεση
ATTACH;FMTTYPE=image/jpeg:https://prosforazoisalmopia.gr/wp-content/uploads/2021/03/eisodos.jpg
END:VEVENT
BEGIN:VEVENT
DTSTART;TZID=Europe/Helsinki:20220214T080000
DTEND;TZID=Europe/Helsinki:20220214T170000
DTSTAMP:20260424T190455
CREATED:20220211T155527Z
LAST-MODIFIED:20220214T161700Z
UID:3192-1644825600-1644858000@prosforazoisalmopia.gr
SUMMARY:Αιμοπεταλιαφαίρεση 14/02/2022
DESCRIPTION:Ημέρα των ερωτευμένων και ο Παντελής είναι ερωτευμένος με την Προσφορά Ζωής! \nΧαρίζει στον αγαπημένο του συνάνθρωπο τα αιμοπετάλια που τόσο πολύ έχει ανάγκη \nΑιμοπεταλιοδοσία για σήμερα με τη σκέψη πάντα στο συνάνθρωπο που έχει την ανάγκη μας!!!\nΔώσε αίμα και αιμοπετάλια\, γίνε δότης μυελού των οστών και χάρισε το πολυτιμότερο αγαθό σε κάποιον που έχει ανάγκη\, χάρισε του ζωή!!!Μη ξεχνάς ποτέ ότι σήμερα κάποιος έχει ανάγκη τη βοήθεια σου αλλά αύριο να έχεις ανάγκη εσύ…. Παντελής
URL:https://prosforazoisalmopia.gr/event/%ce%b1%ce%b9%ce%bc%ce%bf%cf%80%ce%b5%cf%84%ce%b1%ce%bb%ce%b9%ce%b1%cf%86%ce%b1%ce%af%cf%81%ce%b5%cf%83%ce%b7-9/
LOCATION:Τμήμα αιμοδοσίας και αιμοπεταλιοδοσίας Γ.Ν.Θ. Γ. Παπανικολάου\, Λεωφόρος Παπανικολάου 10\, Δήμος Χορτιάτη\, Εξοχή\, 57010\, Ελλάδα
CATEGORIES:Αιμοπεταλιαφαίρεση
ATTACH;FMTTYPE=image/jpeg:https://prosforazoisalmopia.gr/wp-content/uploads/2021/03/ainopetalioafairesi-nosokomeioy.jpg
END:VEVENT
BEGIN:VEVENT
DTSTART;TZID=Europe/Helsinki:20220216T080000
DTEND;TZID=Europe/Helsinki:20220216T170000
DTSTAMP:20260424T190455
CREATED:20220211T160037Z
LAST-MODIFIED:20220216T141953Z
UID:3194-1644998400-1645030800@prosforazoisalmopia.gr
SUMMARY:Αιμοπεταλιαφαίρεση 16/02/2022
DESCRIPTION:Ζευγάρι στη ζωή και στα αιμοπετάλια\, μαζί με έναν φίλο του συλλόγου\, πρόσφεραν τα αιμοπετάλια τους στους συνανθρώπους που έχουν ανάγκη. \n. \nΓιώργος Κουτσιανούδης\, Νίκος Γεωργιάδης\, Νάντια Γκολετσιανι
URL:https://prosforazoisalmopia.gr/event/%ce%b1%ce%b9%ce%bc%ce%bf%cf%80%ce%b5%cf%84%ce%b1%ce%bb%ce%b9%ce%b1%cf%86%ce%b1%ce%af%cf%81%ce%b5%cf%83%ce%b7-16/
LOCATION:Τμήμα αιμοδοσίας και αιμοπεταλιοδοσίας Γ.Ν.Θ. Γ. Παπανικολάου\, Λεωφόρος Παπανικολάου 10\, Δήμος Χορτιάτη\, Εξοχή\, 57010\, Ελλάδα
CATEGORIES:Αιμοπεταλιαφαίρεση
ATTACH;FMTTYPE=image/jpeg:https://prosforazoisalmopia.gr/wp-content/uploads/2021/03/askoi-aimopetalion.jpg
END:VEVENT
END:VCALENDAR