BEGIN:VCALENDAR
VERSION:2.0
PRODID:-//prosforazoisalmopia - ECPv6.13.2.1//NONSGML v1.0//EN
CALSCALE:GREGORIAN
METHOD:PUBLISH
X-WR-CALNAME:prosforazoisalmopia
X-ORIGINAL-URL:https://prosforazoisalmopia.gr
X-WR-CALDESC:prosforazoisalmopia - Εκδηλώσεις
REFRESH-INTERVAL;VALUE=DURATION:PT1H
X-Robots-Tag:noindex
X-PUBLISHED-TTL:PT1H
BEGIN:VTIMEZONE
TZID:Europe/Helsinki
BEGIN:DAYLIGHT
TZOFFSETFROM:+0200
TZOFFSETTO:+0300
TZNAME:EEST
DTSTART:20220327T010000
END:DAYLIGHT
BEGIN:STANDARD
TZOFFSETFROM:+0300
TZOFFSETTO:+0200
TZNAME:EET
DTSTART:20221030T010000
END:STANDARD
END:VTIMEZONE
BEGIN:VEVENT
DTSTART;TZID=Europe/Helsinki:20220124T080000
DTEND;TZID=Europe/Helsinki:20220124T170000
DTSTAMP:20260424T202919
CREATED:20220121T210120Z
LAST-MODIFIED:20220121T210120Z
UID:3130-1643011200-1643043600@prosforazoisalmopia.gr
SUMMARY:Αιμοπεταλιαφαίρεση 24/1/2021
DESCRIPTION:Και η εβδομάδα ξεκινάει με δύο σταθερούς αιμοπεταλιοδότες και μια νέα.
URL:https://prosforazoisalmopia.gr/event/%ce%b1%ce%b9%ce%bc%ce%bf%cf%80%ce%b5%cf%84%ce%ac%ce%bb%ce%b9%ce%b1-2/
LOCATION:Τμήμα αιμοδοσίας και αιμοπεταλιοδοσίας Γ.Ν.Θ. Γ. Παπανικολάου\, Λεωφόρος Παπανικολάου 10\, Δήμος Χορτιάτη\, Εξοχή\, 57010\, Ελλάδα
CATEGORIES:Αιμοπεταλιαφαίρεση
ATTACH;FMTTYPE=image/jpeg:https://prosforazoisalmopia.gr/wp-content/uploads/2022/01/ethelontiki-aimodosia1.jpg
END:VEVENT
BEGIN:VEVENT
DTSTART;TZID=Europe/Helsinki:20220127T160000
DTEND;TZID=Europe/Helsinki:20220127T170000
DTSTAMP:20260424T202919
CREATED:20220121T210936Z
LAST-MODIFIED:20220121T210938Z
UID:3132-1643299200-1643302800@prosforazoisalmopia.gr
SUMMARY:Εθελοντική αιμοδοσία
DESCRIPTION:Την αξία της εθελοντικής αιμοδοσίας θα παρουσιάσουμε στο ΔΙΕΚ Γιαννιτσών μέσα από υλικό που έχει δημιουργηθεί για το σκοπό αυτό από το Υπουργείο Υγείας.\nΕυχαριστούμε την κα Πετρίδου\, διευθύντρια του ΔΙΕΚ για το χρόνο που μας χαρίζει
URL:https://prosforazoisalmopia.gr/event/%ce%b5%ce%b8%ce%b5%ce%bb%ce%bf%ce%bd%cf%84%ce%b9%ce%ba%ce%ae-%ce%b1%ce%b9%ce%bc%ce%bf%ce%b4%ce%bf%cf%83%ce%af%ce%b1/
CATEGORIES:Category Event
ATTACH;FMTTYPE=image/jpeg:https://prosforazoisalmopia.gr/wp-content/uploads/2022/01/ethelontiki-aimodosia1.jpg
END:VEVENT
END:VCALENDAR