BEGIN:VCALENDAR
VERSION:2.0
PRODID:-//prosforazoisalmopia - ECPv6.13.2.1//NONSGML v1.0//EN
CALSCALE:GREGORIAN
METHOD:PUBLISH
X-WR-CALNAME:prosforazoisalmopia
X-ORIGINAL-URL:https://prosforazoisalmopia.gr
X-WR-CALDESC:prosforazoisalmopia - Εκδηλώσεις
REFRESH-INTERVAL;VALUE=DURATION:PT1H
X-Robots-Tag:noindex
X-PUBLISHED-TTL:PT1H
BEGIN:VTIMEZONE
TZID:UTC
BEGIN:STANDARD
TZOFFSETFROM:+0000
TZOFFSETTO:+0000
TZNAME:UTC
DTSTART:20210101T000000
END:STANDARD
END:VTIMEZONE
BEGIN:VTIMEZONE
TZID:Europe/Helsinki
BEGIN:DAYLIGHT
TZOFFSETFROM:+0200
TZOFFSETTO:+0300
TZNAME:EEST
DTSTART:20210328T010000
END:DAYLIGHT
BEGIN:STANDARD
TZOFFSETFROM:+0300
TZOFFSETTO:+0200
TZNAME:EET
DTSTART:20211031T010000
END:STANDARD
END:VTIMEZONE
BEGIN:VEVENT
DTSTART;TZID=UTC:20210316T083000
DTEND;TZID=UTC:20210316T130000
DTSTAMP:20260422T001914
CREATED:20210314T195726Z
LAST-MODIFIED:20210315T055624Z
UID:2023-1615883400-1615899600@prosforazoisalmopia.gr
SUMMARY:Αιμοπεταλιοαφαίρεση 16/3/2021
DESCRIPTION:Ο Σύλλογος Εθελοντών αιμοπεταλιοδοτών – αιμοδοτών και δωρητών μυελού των οστών Αλμωπίας «Προσφορά Ζωής» σε συνεργασία με το Δήμο Αλμωπίας και τη Δημοτική Κοινωφελή Επιχείρηση του Δήμου Αλμωπίας ( ΔΗΚΕΑ) μεταφέρει τους εθελοντές αιμοπεταλιοδότες στο Γ.Ν.Θ. Γ.Παπανικολάου
URL:https://prosforazoisalmopia.gr/event/%ce%b1%ce%b9%ce%bc%ce%bf%cf%80%ce%b5%cf%84%ce%b1%ce%bb%ce%b9%ce%bf%ce%b1%cf%86%ce%b1%ce%af%cf%81%ce%b5%cf%83%ce%b7-16-3-2021/
LOCATION:Τμήμα αιμοδοσίας και αιμοπεταλιοδοσίας Γ.Ν.Θ. Γ. Παπανικολάου\, Λεωφόρος Παπανικολάου 10\, Δήμος Χορτιάτη\, Εξοχή\, 57010\, Ελλάδα
CATEGORIES:Αιμοπεταλιαφαίρεση
ATTACH;FMTTYPE=image/jpeg:https://prosforazoisalmopia.gr/wp-content/uploads/2021/03/eisodos.jpg
END:VEVENT
BEGIN:VEVENT
DTSTART;TZID=UTC:20210308T103000
DTEND;TZID=UTC:20210308T130000
DTSTAMP:20260422T001914
CREATED:20210220T091618Z
LAST-MODIFIED:20210220T091618Z
UID:1958-1615199400-1615208400@prosforazoisalmopia.gr
SUMMARY:Αιμοπεταλιοδοσία 08/03/2021
DESCRIPTION:
URL:https://prosforazoisalmopia.gr/event/%ce%b1%ce%b9%ce%bc%ce%bf%cf%80%ce%b5%cf%84%ce%b1%ce%bb%ce%b9%ce%bf%ce%b4%ce%bf%cf%83%ce%af%ce%b1-08-03-2021/
LOCATION:Εξοχή
CATEGORIES:Αιμοπεταλιαφαίρεση
ATTACH;FMTTYPE=image/jpeg:https://prosforazoisalmopia.gr/wp-content/uploads/2017/04/thumb_640.jpg
END:VEVENT
BEGIN:VEVENT
DTSTART;TZID=UTC:20210302T090000
DTEND;TZID=UTC:20210302T123000
DTSTAMP:20260422T001914
CREATED:20210215T125531Z
LAST-MODIFIED:20210215T125531Z
UID:1928-1614675600-1614688200@prosforazoisalmopia.gr
SUMMARY:Αιμοδοσία 2/3/2021
DESCRIPTION:
URL:https://prosforazoisalmopia.gr/event/%ce%b1%ce%b9%ce%bc%ce%bf%ce%b4%ce%bf%cf%83%ce%af%ce%b1-2-3-2021/
LOCATION:ΚΑΠΗ Αριδαίας\, Αριδαία\, Ελλάδα
CATEGORIES:Αιμοδοσία
ATTACH;FMTTYPE=image/jpeg:https://prosforazoisalmopia.gr/wp-content/uploads/2017/04/unnamed.jpg
END:VEVENT
BEGIN:VEVENT
DTSTART;TZID=UTC:20210225T103000
DTEND;TZID=UTC:20210225T130000
DTSTAMP:20260422T001914
CREATED:20210220T091039Z
LAST-MODIFIED:20210220T091039Z
UID:1956-1614249000-1614258000@prosforazoisalmopia.gr
SUMMARY:Αιμοπεταλιοδοσία 25/2/2021
DESCRIPTION:
URL:https://prosforazoisalmopia.gr/event/%ce%b1%ce%b9%ce%bc%ce%bf%cf%80%ce%b5%cf%84%ce%b1%ce%bb%ce%b9%ce%bf%ce%b4%ce%bf%cf%83%ce%af%ce%b1-25-2-2021/
LOCATION:Εξοχή
CATEGORIES:Αιμοπεταλιαφαίρεση
ATTACH;FMTTYPE=image/jpeg:https://prosforazoisalmopia.gr/wp-content/uploads/2017/04/thumb_640.jpg
END:VEVENT
BEGIN:VEVENT
DTSTART;TZID=UTC:20210224T103000
DTEND;TZID=UTC:20210224T130000
DTSTAMP:20260422T001914
CREATED:20210215T125122Z
LAST-MODIFIED:20210215T125122Z
UID:1926-1614162600-1614171600@prosforazoisalmopia.gr
SUMMARY:Αιμοπεταλιοδοσία 24/2/2021
DESCRIPTION:
URL:https://prosforazoisalmopia.gr/event/%ce%b1%ce%b9%ce%bc%ce%bf%cf%80%ce%b5%cf%84%ce%b1%ce%bb%ce%b9%ce%bf%ce%b4%ce%bf%cf%83%ce%af%ce%b1-24-2-2021/
LOCATION:Εξοχή
CATEGORIES:Αιμοπεταλιαφαίρεση
ATTACH;FMTTYPE=image/jpeg:https://prosforazoisalmopia.gr/wp-content/uploads/2017/04/thumb_640.jpg
END:VEVENT
BEGIN:VEVENT
DTSTART;TZID=Europe/Helsinki:20210212T103000
DTEND;TZID=Europe/Helsinki:20210212T133000
DTSTAMP:20260422T001914
CREATED:20210202T073518Z
LAST-MODIFIED:20210215T124806Z
UID:1877-1613125800-1613136600@prosforazoisalmopia.gr
SUMMARY:Αιμοπεταλιοαφαίρεση
DESCRIPTION:Πρεντη Σοφία\n \n\nΛαζοπούλου Κωνσταντίνα  \n \n 
URL:https://prosforazoisalmopia.gr/event/%ce%b1%ce%b9%ce%bc%ce%bf%cf%80%ce%b5%cf%84%ce%b1%ce%bb%ce%b9%ce%bf%ce%b1%cf%86%ce%b1%ce%af%cf%81%ce%b5%cf%83%ce%b7/
LOCATION:Εξοχή
CATEGORIES:Αιμοπεταλιαφαίρεση
ATTACH;FMTTYPE=image/jpeg:https://prosforazoisalmopia.gr/wp-content/uploads/2017/04/thumb_640.jpg
END:VEVENT
BEGIN:VEVENT
DTSTART;TZID=UTC:20210202T090000
DTEND;TZID=UTC:20210202T130000
DTSTAMP:20260422T001914
CREATED:20210131T194519Z
LAST-MODIFIED:20210202T190838Z
UID:1851-1612256400-1612270800@prosforazoisalmopia.gr
SUMMARY:Αιμοδοσία 02/02/2021
DESCRIPTION:
URL:https://prosforazoisalmopia.gr/event/%ce%b1%ce%b9%ce%bc%ce%bf%ce%b4%ce%bf%cf%83%ce%af%ce%b1-02-02-2021/
LOCATION:ΚΑΠΗ Αριδαίας\, Αριδαία\, Ελλάδα
CATEGORIES:Αιμοδοσία
ATTACH;FMTTYPE=image/jpeg:https://prosforazoisalmopia.gr/wp-content/uploads/2017/04/foto-arthra1.jpg
END:VEVENT
END:VCALENDAR