BEGIN:VCALENDAR
VERSION:2.0
PRODID:-//prosforazoisalmopia - ECPv6.13.2.1//NONSGML v1.0//EN
CALSCALE:GREGORIAN
METHOD:PUBLISH
X-ORIGINAL-URL:https://prosforazoisalmopia.gr
X-WR-CALDESC:prosforazoisalmopia - Εκδηλώσεις
REFRESH-INTERVAL;VALUE=DURATION:PT1H
X-Robots-Tag:noindex
X-PUBLISHED-TTL:PT1H
BEGIN:VTIMEZONE
TZID:Europe/Helsinki
BEGIN:DAYLIGHT
TZOFFSETFROM:+0200
TZOFFSETTO:+0300
TZNAME:EEST
DTSTART:20230326T010000
END:DAYLIGHT
BEGIN:STANDARD
TZOFFSETFROM:+0300
TZOFFSETTO:+0200
TZNAME:EET
DTSTART:20231029T010000
END:STANDARD
BEGIN:DAYLIGHT
TZOFFSETFROM:+0200
TZOFFSETTO:+0300
TZNAME:EEST
DTSTART:20240331T010000
END:DAYLIGHT
BEGIN:STANDARD
TZOFFSETFROM:+0300
TZOFFSETTO:+0200
TZNAME:EET
DTSTART:20241027T010000
END:STANDARD
END:VTIMEZONE
BEGIN:VEVENT
DTSTART;TZID=Europe/Helsinki:20230804T080000
DTEND;TZID=Europe/Helsinki:20230804T130000
DTSTAMP:20260420T002145
CREATED:20230730T121238Z
LAST-MODIFIED:20230730T121238Z
UID:6081-1691136000-1691154000@prosforazoisalmopia.gr
SUMMARY:Αιμοπεταλιαφαίρεση 04/08/2023
DESCRIPTION:Κατακαλόκαιρο\, μέσα στις άδειες όμως η ομάδα των εθελοντών αιμοπεταλιοδοτών είναι έτοιμη για τη μετάβαση τους στο Γ.Ν.Θ. Γ. Παπανικολάου για να καλύψει ανάγκες των ασθενών. \nΕυχαριστούμε την ΔΗΚΕΑ και το Δήμο Αλμωπίας για την παραχώρηση του βαν για τη μεταφορά των αιμοπεταλιοδοτών στο Νοσοκομείο με ασφάλεια. \nΕυχαριστούμε την κα Μυροφόρα Κιζιρίδου για την προσφορά του πρωινού στους αιμοπεταλιοδότες\, στη μνήμη της μητέρας της Κιζιρίδου Κυριακής.
URL:https://prosforazoisalmopia.gr/event/%ce%b1%ce%b9%ce%bc%ce%bf%cf%80%ce%b5%cf%84%ce%b1%ce%bb%ce%b9%ce%b1%cf%86%ce%b1%ce%af%cf%81%ce%b5%cf%83%ce%b7-04-08-2023/
LOCATION:Τμήμα αιμοδοσίας και αιμοπεταλιοδοσίας Γ.Ν.Θ. Γ. Παπανικολάου\, Λεωφόρος Παπανικολάου 10\, Δήμος Χορτιάτη\, Εξοχή\, 57010\, Ελλάδα
CATEGORIES:Αιμοπεταλιαφαίρεση
ATTACH;FMTTYPE=image/jpeg:https://prosforazoisalmopia.gr/wp-content/uploads/2021/03/askoi-aimopetalion.jpg
END:VEVENT
BEGIN:VEVENT
DTSTART;TZID=Europe/Helsinki:20230814T090000
DTEND;TZID=Europe/Helsinki:20230814T140000
DTSTAMP:20260420T002145
CREATED:20230811T034655Z
LAST-MODIFIED:20230811T034656Z
UID:6093-1692003600-1692021600@prosforazoisalmopia.gr
SUMMARY:Αιμοπεταλιαφαίρεση 14/08/2023
DESCRIPTION:Παραμονή της Παναγίας\, οι ανάγκες δεν σταματούν. \nΗ ομάδα μεταφέρεται στο Γ.Ν.Θ\, Γ. Παπανικολάου για να βοηθήσει τους συνανθρώπους μας που υποφέρουν. \nΕυχαριστούμε το Δήμο Αλμωπίας και τη ΔΗΚΕΑ για την παραχώρηση του βαν με οδηγό ώστε οι αιμοπεταλιοδότες να μεταφερθούν με άνεση και ασφάλεια. \n 
URL:https://prosforazoisalmopia.gr/event/%ce%b1%ce%b9%ce%bc%ce%bf%cf%80%ce%b5%cf%84%ce%b1%ce%bb%ce%b9%ce%b1%cf%86%ce%b1%ce%af%cf%81%ce%b5%cf%83%ce%b7-14-08-2023/
LOCATION:Τμήμα αιμοδοσίας και αιμοπεταλιοδοσίας Γ.Ν.Θ. Γ. Παπανικολάου\, Λεωφόρος Παπανικολάου 10\, Δήμος Χορτιάτη\, Εξοχή\, 57010\, Ελλάδα
CATEGORIES:Αιμοπεταλιαφαίρεση
ATTACH;FMTTYPE=image/jpeg:https://prosforazoisalmopia.gr/wp-content/uploads/2021/03/ainopetalioafairesi-nosokomeioy.jpg
END:VEVENT
BEGIN:VEVENT
DTSTART;TZID=Europe/Helsinki:20230825T080000
DTEND;TZID=Europe/Helsinki:20230825T140000
DTSTAMP:20260420T002145
CREATED:20230825T165815Z
LAST-MODIFIED:20230825T165815Z
UID:6100-1692950400-1692972000@prosforazoisalmopia.gr
SUMMARY:Αιμοπεταλιαφαίρεση 25/08/2023
DESCRIPTION:Οι ανάγκες δυστυχώς δεν σταματούν και εμείς είμαστε εκεί σε κάθε κάλεσμα\, σε κάθε ανάγκη. Η θεραπεία\, για αυτές τις δύσκολες καταστάσεις\, είναι ο υγιής άνθρωπος που μπορεί να προσφέρει το χρόνο του και το αίμα του.\n\n\nΕυχαριστούμε το Δήμο Αλμωπίας και τη ΔΗΚΕΑ για την παραχώρηση οχήματος και οδηγού για τη μεταφορά των αιμοπεταλιοδοτών.\n\n\n Ευχαριστούμε την κα Εμιλία για την προσφορά πρωινού στους αιμοπεταλιοδότες.
URL:https://prosforazoisalmopia.gr/event/%ce%b1%ce%b9%ce%bc%ce%bf%cf%80%ce%b5%cf%84%ce%b1%ce%bb%ce%b9%ce%b1%cf%86%ce%b1%ce%af%cf%81%ce%b5%cf%83%ce%b7-25-08-2023/
LOCATION:Τμήμα αιμοδοσίας και αιμοπεταλιοδοσίας Γ.Ν.Θ. Γ. Παπανικολάου\, Λεωφόρος Παπανικολάου 10\, Δήμος Χορτιάτη\, Εξοχή\, 57010\, Ελλάδα
CATEGORIES:Αιμοπεταλιαφαίρεση
ATTACH;FMTTYPE=image/jpeg:https://prosforazoisalmopia.gr/wp-content/uploads/2021/03/askoi-aimopetalion-1.jpg
END:VEVENT
BEGIN:VEVENT
DTSTART;TZID=Europe/Helsinki:20240424T080000
DTEND;TZID=Europe/Helsinki:20240424T170000
DTSTAMP:20260420T002145
CREATED:20240424T183757Z
LAST-MODIFIED:20240424T204040Z
UID:6137-1713945600-1713978000@prosforazoisalmopia.gr
SUMMARY:Αιμοπεταλιαφαίρεση 24/04/2024
DESCRIPTION:Ήταν και σήμερα εκεί\, μη φειδόμενοι χρόνου και κόπου\, ακούραστοι χωρίς δεύτερη σκέψη για να προσφέρουν στον συνάνθρωπο\, αφήνοντας πίσω για λίγο τις δουλειές τους βάζοντας πάνω από όλα την προσφορά αίματος και αιμοπεταλίων\nΟι εθελοντές μας ήταν και πάλι εκεί στο γνωστό και αγαπημένο τμήμα του Γ.Ν.Θ. Παπανικολάου και πρόσφεραν τα αιμοπετάλια τους για ασθενείς που τα έχουν ανάγκη…\nΗ δύναμη του συλλόγου μας είστε εσείς….\nκαι για αυτό σας ευχαριστούμε όλους από καρδιάς….❤️❤️\nΤοσουνίδης Γιώργος\nΤαρασίδης Χρήστος\nΚαραδήμος Βασίλης\nΠαρασκευόπουλος Δημήτρης\nRespect….\nΕυχαριστούμε θερμά τον δήμο Αλμωπίας για την διάθεση του οχήματος για την μεταφορά των εθελοντών μας και την κυρία Ε.Κ για την προσφορά του πρωινού και του καφέ των εθελοντών μας….
URL:https://prosforazoisalmopia.gr/event/%ce%b1%ce%b9%ce%bc%ce%bf%cf%80%ce%b5%cf%84%ce%b1%ce%bb%ce%b9%ce%b1%cf%86%ce%b1%ce%af%cf%81%ce%b5%cf%83%ce%b7-24-04-2024/
CATEGORIES:Αιμοπεταλιαφαίρεση
ATTACH;FMTTYPE=image/jpeg:https://prosforazoisalmopia.gr/wp-content/uploads/2024/04/25-4-24a.jpg
END:VEVENT
END:VCALENDAR