BEGIN:VCALENDAR
VERSION:2.0
PRODID:-//prosforazoisalmopia - ECPv6.13.2.1//NONSGML v1.0//EN
CALSCALE:GREGORIAN
METHOD:PUBLISH
X-WR-CALNAME:prosforazoisalmopia
X-ORIGINAL-URL:https://prosforazoisalmopia.gr
X-WR-CALDESC:prosforazoisalmopia - Εκδηλώσεις
REFRESH-INTERVAL;VALUE=DURATION:PT1H
X-Robots-Tag:noindex
X-PUBLISHED-TTL:PT1H
BEGIN:VTIMEZONE
TZID:Europe/Helsinki
BEGIN:DAYLIGHT
TZOFFSETFROM:+0200
TZOFFSETTO:+0300
TZNAME:EEST
DTSTART:20230326T010000
END:DAYLIGHT
BEGIN:STANDARD
TZOFFSETFROM:+0300
TZOFFSETTO:+0200
TZNAME:EET
DTSTART:20231029T010000
END:STANDARD
END:VTIMEZONE
BEGIN:VEVENT
DTSTART;TZID=Europe/Helsinki:20230719T200000
DTEND;TZID=Europe/Helsinki:20230720T223000
DTSTAMP:20260419T215951
CREATED:20230405T134922Z
LAST-MODIFIED:20230405T135107Z
UID:4039-1689796800-1689892200@prosforazoisalmopia.gr
SUMMARY:Δειγματοληψία μυελού των οστών 19-20 Ιουλίου 2023
DESCRIPTION:Ο Σύλλογος “Προσφορά Ζωής” συμμετέχει στις διήμερες εκδηλώσεις του Λαογραφικού και Εκπολιτιστικού Συλλόγου Αψάλου στις 19 και 20 Ιουλίου 2023 στο προαύλειο του Δημοτικού Σχολείου Αψάλου. \nΟ Σύλλογος θα βρίσκεται εκεί ως επίσημος συνεργάτης του Συλλόγου “Όραμα Ελππίδας” για δειγματοληψία εθελοντων δοτών μυελού των οστών.
URL:https://prosforazoisalmopia.gr/event/%ce%b4%ce%b5%ce%b9%ce%b3%ce%bc%ce%b1%cf%84%ce%bf%ce%bb%ce%b7%cf%88%ce%af%ce%b1-%ce%bc%cf%85%ce%b5%ce%bb%ce%bf%cf%8d-%cf%84%cf%89%ce%bd-%ce%bf%cf%83%cf%84%cf%8e%ce%bd-19-20-%ce%b9%ce%bf%cf%85%ce%bb/
LOCATION:Άψαλος\, Άψαλος\, Αλμωπία\, Πέλλας\, 58400\, Ελλάδα
CATEGORIES:Δειγματοληψία μυελού των οστών
ATTACH;FMTTYPE=image/png:https://prosforazoisalmopia.gr/wp-content/uploads/2022/01/orama-elpidas.png
END:VEVENT
BEGIN:VEVENT
DTSTART;TZID=Europe/Helsinki:20230714T200000
DTEND;TZID=Europe/Helsinki:20230714T230000
DTSTAMP:20260419T215951
CREATED:20230403T150232Z
LAST-MODIFIED:20230403T171830Z
UID:4026-1689364800-1689375600@prosforazoisalmopia.gr
SUMMARY:Δειγματοληψία εθελοντών δοτών μυελού των οστών 14/07/2023
DESCRIPTION:Στις 14 Ιουλίου στην εκδήλωση του Πολιτιστικού Συλλόγου Πευκωτού “Π. Ιωάννης Παπαντώνης” \, ο Σύλλογος Προσφορά Ζωής θα βρίσκεται εκεί ως επίσημος συνεργάτης του συλλόγου “Όραμα Ελπίδας” για δειγματοληψία εθελοντών δοτών μυελού των οστών. \nΓιατί μπορεί να είσαι ο μοναδικός που έχει τη δύναμη να σώσει έναν άνθρωπο
URL:https://prosforazoisalmopia.gr/event/%ce%b4%ce%b5%ce%b9%ce%b3%ce%bc%ce%b1%cf%84%ce%bf%ce%bb%ce%b7%cf%88%ce%af%ce%b1-%ce%b5%ce%b8%ce%b5%ce%bb%ce%bf%ce%bd%cf%84%cf%8e%ce%bd-%ce%b4%ce%bf%cf%84%cf%8e%ce%bd-%ce%bc%cf%85%ce%b5%ce%bb%ce%bf/
LOCATION:Πευκωτό Αλμωπίας Ν. Πέλλας\, Πευκωτό\, Αριδαία\, Πέλλας\, 58400\, Ελλάδα
CATEGORIES:Δειγματοληψία μυελού των οστών
ATTACH;FMTTYPE=image/png:https://prosforazoisalmopia.gr/wp-content/uploads/2022/01/orama-elpidas.png
END:VEVENT
BEGIN:VEVENT
DTSTART;TZID=Europe/Helsinki:20230713T210000
DTEND;TZID=Europe/Helsinki:20230713T230000
DTSTAMP:20260419T215951
CREATED:20230405T140429Z
LAST-MODIFIED:20230405T140431Z
UID:4041-1689282000-1689289200@prosforazoisalmopia.gr
SUMMARY:Δειγματοληψία εθελοντών δοτών μυελού των οστών 13/07/2023
DESCRIPTION:Ο Σύλλογος “Προσφορά Ζωής” συμμετέχει στις εκδηλώσεις του Μορφωτικού Πολιτιστικού  Συλλόγου Ποντίων Ριζοχωρίου “Τοξίδου Ελένη” στις 13/07/2023 στο Ριζοχώρι. \nΟ Σύλλογος συμμετέχει ως επίσημος συνεργάτης του Συλλόγου “Όραμα Ελπίδας” για δειγματοληψία εθελοντών δοτών μυελού των οστών.
URL:https://prosforazoisalmopia.gr/event/%ce%b4%ce%b5%ce%b9%ce%b3%ce%bc%ce%b1%cf%84%ce%bf%ce%bb%ce%b7%cf%88%ce%af%ce%b1-%ce%b5%ce%b8%ce%b5%ce%bb%ce%bf%ce%bd%cf%84%cf%8e%ce%bd-%ce%b4%ce%bf%cf%84%cf%8e%ce%bd-%ce%bc%cf%85%ce%b5%ce%bb%ce%bf-2/
LOCATION:Ριζοχώρι
CATEGORIES:Δειγματοληψία μυελού των οστών
ATTACH;FMTTYPE=image/png:https://prosforazoisalmopia.gr/wp-content/uploads/2022/01/orama-elpidas.png
END:VEVENT
BEGIN:VEVENT
DTSTART;VALUE=DATE:20230507
DTEND;VALUE=DATE:20230508
DTSTAMP:20260419T215951
CREATED:20230423T045820Z
LAST-MODIFIED:20230423T045820Z
UID:4374-1683417600-1683503999@prosforazoisalmopia.gr
SUMMARY:1ο ΠΙΝΟΒΟ TRAIL
DESCRIPTION:Ο Σύλλογος Δρομέων Υγείας Αλμωπίας διοργανώνει τον 1ο Ορεινό αγώνα τρεξίματος\, με την ονομασία: 1ο ΠΙΝΟΒΟ TRAIL <<ΜΑΥΡΟΣ ΒΡΑΧΟΣ>> την Κυριακή 7 του Μάη\, με 2 επιμέρους διαδρομές\n-Την διαδρομή των 27χλμ. με 1700μ. υψομετρικά και\n-Την διαδρομή των 14χλμ. με 750μ. υψομετρικά!!\nΑφετηρία και Τερματισμός η πλατεία του γραφικού χωριού Αετοχωρίου\, στην Ανατολική Αλμωπία\, στους πρόποδες του Πινόβου\, στα 680 μέτρα υψόμετρο!! \nΟ Σύλλογος Προσφορά Ζωής θα βρίσκεται στο σημείο εκκίνησης των αγώνων\, δίπλα από την γραμματεία και θα ενημερώνει σχετικά τους συμμετέχοντες και τους παρευρισκόμενους για τις δράσεις του συλλόγου και θα γίνεται εθελοντική λήψη δείγματος μυελού των οστών.
URL:https://prosforazoisalmopia.gr/event/1%ce%bf-%cf%80%ce%b9%ce%bd%ce%bf%ce%b2%ce%bf-trail/
LOCATION:Αετοχώρι\, Αετοχώρι\, Αλμωπία\, Πέλλας\, 58400\, Ελλάδα
CATEGORIES:Δειγματοληψία μυελού των οστών
ATTACH;FMTTYPE=image/jpeg:https://prosforazoisalmopia.gr/wp-content/uploads/2023/04/pinovo.jpg
END:VEVENT
BEGIN:VEVENT
DTSTART;TZID=Europe/Helsinki:20230430T100000
DTEND;TZID=Europe/Helsinki:20230430T130000
DTSTAMP:20260419T215951
CREATED:20230407T151343Z
LAST-MODIFIED:20230407T151343Z
UID:4075-1682848800-1682859600@prosforazoisalmopia.gr
SUMMARY:Δειγματοληψία εθελοντών δοτών μυελού των οστών 30/04/2023
DESCRIPTION:Ο Σύλλογος Προσφορά Ζωής συμμετέχει στις εκδηλώσεις της ανθοέκθεσης της Σκύδρας Ν. Πέλλας. \n10:00 – 13:00 θα βρισκόμαστε στην πλατεία Σαφραμπόλεως Σκύδρας όπου θα ενημερώνουμε για τη δωρεά μυελού των οστών και παράλληλα θα γίνετε και δειγματοληψία εθελοντών δοτών μυελού των οστών.
URL:https://prosforazoisalmopia.gr/event/%ce%b4%ce%b5%ce%b9%ce%b3%ce%bc%ce%b1%cf%84%ce%bf%ce%bb%ce%b7%cf%88%ce%af%ce%b1/
LOCATION:Σκύδρα
CATEGORIES:Δειγματοληψία μυελού των οστών
ATTACH;FMTTYPE=image/png:https://prosforazoisalmopia.gr/wp-content/uploads/2022/01/orama-elpidas.png
END:VEVENT
END:VCALENDAR