BEGIN:VCALENDAR
VERSION:2.0
PRODID:-//prosforazoisalmopia - ECPv6.13.2.1//NONSGML v1.0//EN
CALSCALE:GREGORIAN
METHOD:PUBLISH
X-ORIGINAL-URL:https://prosforazoisalmopia.gr
X-WR-CALDESC:prosforazoisalmopia - Εκδηλώσεις
REFRESH-INTERVAL;VALUE=DURATION:PT1H
X-Robots-Tag:noindex
X-PUBLISHED-TTL:PT1H
BEGIN:VTIMEZONE
TZID:Europe/Helsinki
BEGIN:DAYLIGHT
TZOFFSETFROM:+0200
TZOFFSETTO:+0300
TZNAME:EEST
DTSTART:20230326T010000
END:DAYLIGHT
BEGIN:STANDARD
TZOFFSETFROM:+0300
TZOFFSETTO:+0200
TZNAME:EET
DTSTART:20231029T010000
END:STANDARD
END:VTIMEZONE
BEGIN:VEVENT
DTSTART;VALUE=DATE:20230614
DTEND;VALUE=DATE:20230615
DTSTAMP:20260421T143704
CREATED:20230613T151243Z
LAST-MODIFIED:20230613T151258Z
UID:6005-1686700800-1686787199@prosforazoisalmopia.gr
SUMMARY:Παγκόσμια Ημέρα Εθελοντή Αιμοδότη 14/06/2023
DESCRIPTION:Σας προσκαλούμε αύριο Τετάρτη 14/06/2023\, Παγκόσμια Ημέρα Εθελοντή Αιμοδότη 10:οοπ.μ – 14:30μ.μ και 17:30-21:00 στην πρώην Λέσχη Αξιωματικών Αριδαίας για να θαυμάσετε τις ζωγραφιές των παιδιών για την αιμοδοσία μέσα από τα δικά τους μάτια. \nΠαράλληλα θα γίνεται λήψη δείγματος δωρεάς μυελού των οστών. \nΤο μεσημέρι θα ανακοινωθούν οι νικητές από την επιτροπή και το απόγευμα στις 20:00 θα γίνει η βράβευση τους. \nΣας περιμένουμε!!
URL:https://prosforazoisalmopia.gr/event/%cf%80%ce%b1%ce%b3%ce%ba%cf%8c%cf%83%ce%bc%ce%b9%ce%b1-%ce%b7%ce%bc%ce%ad%cf%81%ce%b1-%ce%b5%ce%b8%ce%b5%ce%bb%ce%bf%ce%bd%cf%84%ce%ae-%ce%b1%ce%b9%ce%bc%ce%bf%ce%b4%cf%8c%cf%84%ce%b7-14-06-2023/
LOCATION:πρώην Λέσχη Αξιωματικών Αριδαίας\, Κύπρου 9\, Αριδαία\, Πέλλας\, 58400\, Ελλάδα
CATEGORIES:Category Event
ATTACH;FMTTYPE=image/jpeg:https://prosforazoisalmopia.gr/wp-content/uploads/2023/06/ΠΡΟΣΦΟΡΑ-ΖΩΗΣ-14-06-23-scaled.jpg
END:VEVENT
END:VCALENDAR