BEGIN:VCALENDAR
VERSION:2.0
PRODID:-//prosforazoisalmopia - ECPv6.13.2.1//NONSGML v1.0//EN
CALSCALE:GREGORIAN
METHOD:PUBLISH
X-ORIGINAL-URL:https://prosforazoisalmopia.gr
X-WR-CALDESC:prosforazoisalmopia - Εκδηλώσεις
REFRESH-INTERVAL;VALUE=DURATION:PT1H
X-Robots-Tag:noindex
X-PUBLISHED-TTL:PT1H
BEGIN:VTIMEZONE
TZID:Europe/Helsinki
BEGIN:DAYLIGHT
TZOFFSETFROM:+0200
TZOFFSETTO:+0300
TZNAME:EEST
DTSTART:20230326T010000
END:DAYLIGHT
BEGIN:STANDARD
TZOFFSETFROM:+0300
TZOFFSETTO:+0200
TZNAME:EET
DTSTART:20231029T010000
END:STANDARD
END:VTIMEZONE
BEGIN:VEVENT
DTSTART;TZID=Europe/Helsinki:20230605T000000
DTEND;TZID=Europe/Helsinki:20230612T233000
DTSTAMP:20260421T143658
CREATED:20230605T171940Z
LAST-MODIFIED:20230605T171940Z
UID:5939-1685923200-1686612600@prosforazoisalmopia.gr
SUMMARY:Διαγωνισμός Ζωγραφικής 2023
DESCRIPTION:“Η αιμοδοσία μέσα από τα μάτια των παιδιών” \n287 παιδιά από τα Δημοτικά σχολεία της Αλμωπίας\, ζωγραφίζουν για την αιμοδοσία. \nΚαι έφτασε επιτέλους η μεγάλη ώρα της ψηφοφορίας. Η ψηφοφορία αρχίζει 5/06/2023 και τελειώνει στις 12/06/2023 στις 12:00 το βράδυ. \n\nΣε περίπτωση ισοβαθμίας για την πρώτη θέση\, το νικητή θα τον αναδείξει ο σύγχρονος εικαστικός – ζωγράφος κος Επιτρόπου Στέφανος.\n\n\nΕυχαριστούμε πολύ τα σχολεία και τα 287 παιδιά των Δημοτικών σχολείων Αλμωπίας που θέλησαν να πάρουν μέρος σε κάτι τόσο όμορφο. Μέσα από τα ματιά των παιδιών ” Όλοι μαζί εμείς θα φτιάξουμε\, έναν κόσμο απ’ αγάπη κι ελπίδα\, με χρώματα ουράνια θα βάψουμε τη ζωή μας\, ν’ αλλάξει σελίδα.”\n\n\nΟι ζωγραφιές θα εκτεθούν στην πρώην Λέσχη Αξιωματικών Αριδαίας στις 14/6/2023\, παγκόσμια ημέρα εθελοντή αιμοδότη.\n\n\nΚαλή επιτυχία σε όλους.\nΥ.Γ.\nΣε περίπτωση που δε βλέπετε τη ζωγραφιά του παιδιού σας\, επικοινωνήστε μαζί μας στο 6955 508219.
URL:https://prosforazoisalmopia.gr/event/%ce%b4%ce%b9%ce%b1%ce%b3%cf%89%ce%bd%ce%b9%cf%83%ce%bc%cf%8c%cf%82-%ce%b6%cf%89%ce%b3%cf%81%ce%b1%cf%86%ce%b9%ce%ba%ce%ae%cf%82-2023/
CATEGORIES:Category Event
END:VEVENT
END:VCALENDAR