BEGIN:VCALENDAR
VERSION:2.0
PRODID:-//prosforazoisalmopia - ECPv6.13.2.1//NONSGML v1.0//EN
CALSCALE:GREGORIAN
METHOD:PUBLISH
X-ORIGINAL-URL:https://prosforazoisalmopia.gr
X-WR-CALDESC:prosforazoisalmopia - Εκδηλώσεις
REFRESH-INTERVAL;VALUE=DURATION:PT1H
X-Robots-Tag:noindex
X-PUBLISHED-TTL:PT1H
BEGIN:VTIMEZONE
TZID:Europe/Helsinki
BEGIN:DAYLIGHT
TZOFFSETFROM:+0200
TZOFFSETTO:+0300
TZNAME:EEST
DTSTART:20230326T010000
END:DAYLIGHT
BEGIN:STANDARD
TZOFFSETFROM:+0300
TZOFFSETTO:+0200
TZNAME:EET
DTSTART:20231029T010000
END:STANDARD
END:VTIMEZONE
BEGIN:VEVENT
DTSTART;TZID=Europe/Helsinki:20230430T100000
DTEND;TZID=Europe/Helsinki:20230430T130000
DTSTAMP:20260423T173028
CREATED:20230407T151343Z
LAST-MODIFIED:20230407T151343Z
UID:4075-1682848800-1682859600@prosforazoisalmopia.gr
SUMMARY:Δειγματοληψία εθελοντών δοτών μυελού των οστών 30/04/2023
DESCRIPTION:Ο Σύλλογος Προσφορά Ζωής συμμετέχει στις εκδηλώσεις της ανθοέκθεσης της Σκύδρας Ν. Πέλλας. \n10:00 – 13:00 θα βρισκόμαστε στην πλατεία Σαφραμπόλεως Σκύδρας όπου θα ενημερώνουμε για τη δωρεά μυελού των οστών και παράλληλα θα γίνετε και δειγματοληψία εθελοντών δοτών μυελού των οστών.
URL:https://prosforazoisalmopia.gr/event/%ce%b4%ce%b5%ce%b9%ce%b3%ce%bc%ce%b1%cf%84%ce%bf%ce%bb%ce%b7%cf%88%ce%af%ce%b1/
LOCATION:Σκύδρα
CATEGORIES:Δειγματοληψία μυελού των οστών
ATTACH;FMTTYPE=image/png:https://prosforazoisalmopia.gr/wp-content/uploads/2022/01/orama-elpidas.png
END:VEVENT
END:VCALENDAR