BEGIN:VCALENDAR
VERSION:2.0
PRODID:-//prosforazoisalmopia - ECPv6.13.2.1//NONSGML v1.0//EN
CALSCALE:GREGORIAN
METHOD:PUBLISH
X-ORIGINAL-URL:https://prosforazoisalmopia.gr
X-WR-CALDESC:prosforazoisalmopia - Εκδηλώσεις
REFRESH-INTERVAL;VALUE=DURATION:PT1H
X-Robots-Tag:noindex
X-PUBLISHED-TTL:PT1H
BEGIN:VTIMEZONE
TZID:Europe/Helsinki
BEGIN:DAYLIGHT
TZOFFSETFROM:+0200
TZOFFSETTO:+0300
TZNAME:EEST
DTSTART:20220327T010000
END:DAYLIGHT
BEGIN:STANDARD
TZOFFSETFROM:+0300
TZOFFSETTO:+0200
TZNAME:EET
DTSTART:20221030T010000
END:STANDARD
END:VTIMEZONE
BEGIN:VEVENT
DTSTART;TZID=Europe/Helsinki:20221206T080000
DTEND;TZID=Europe/Helsinki:20221206T083000
DTSTAMP:20260424T024044
CREATED:20221206T062340Z
LAST-MODIFIED:20230113T062953Z
UID:3713-1670313600-1670315400@prosforazoisalmopia.gr
SUMMARY:Αιμοδοσία 6/12/2022
DESCRIPTION:Προσφέρουν για το συνάνθρωπο. Απλά πηγαίνουν στο νοσοκομείο Έδεσσας και δίνουν μια μονάδα αίματος για να σώσουν 3 ζωές
URL:https://prosforazoisalmopia.gr/event/%ce%b1%ce%b9%ce%bc%ce%bf%ce%b4%ce%bf%cf%83%ce%af%ce%b1-6-12-2022/
LOCATION:Γενικό Νοσοκομείο Έδεσσας\, Τέρμα Εγνατίας\, Έδεσσα\, Πέλλας\, 58200\, Ελλάδα
CATEGORIES:Αιμοδοσία
ATTACH;FMTTYPE=image/jpeg:https://prosforazoisalmopia.gr/wp-content/uploads/2023/01/tsarixas-6-12-2022.jpg
END:VEVENT
END:VCALENDAR