BEGIN:VCALENDAR
VERSION:2.0
PRODID:-//prosforazoisalmopia - ECPv6.13.2.1//NONSGML v1.0//EN
CALSCALE:GREGORIAN
METHOD:PUBLISH
X-ORIGINAL-URL:https://prosforazoisalmopia.gr
X-WR-CALDESC:prosforazoisalmopia - Εκδηλώσεις
REFRESH-INTERVAL;VALUE=DURATION:PT1H
X-Robots-Tag:noindex
X-PUBLISHED-TTL:PT1H
BEGIN:VTIMEZONE
TZID:Europe/Helsinki
BEGIN:DAYLIGHT
TZOFFSETFROM:+0200
TZOFFSETTO:+0300
TZNAME:EEST
DTSTART:20220327T010000
END:DAYLIGHT
BEGIN:STANDARD
TZOFFSETFROM:+0300
TZOFFSETTO:+0200
TZNAME:EET
DTSTART:20221030T010000
END:STANDARD
END:VTIMEZONE
BEGIN:VEVENT
DTSTART;TZID=Europe/Helsinki:20221204T203000
DTEND;TZID=Europe/Helsinki:20221204T223000
DTSTAMP:20260424T023458
CREATED:20221204T154238Z
LAST-MODIFIED:20221204T154238Z
UID:3675-1670185800-1670193000@prosforazoisalmopia.gr
SUMMARY:Θεατρική παράσταση "Τα κίτρινα γάντια"
DESCRIPTION:Ο εθελοντισμός δίνει μήνυμα ελπίδας και αισιοδοξίας. Στηρίζεται στην ιδέα της κοινωνικής αλληλεγγύης\, στις καλές προθέσεις\, την ανιδιοτελή προσφορά\, στο σεβασμό. Ο εθελοντισμός δεν είναι απλά ένας όρος\, είναι στάση ζωής! \nΣτο πνεύμα της ευγενούς άμιλλας και της εθελοντικής συνείδησης\, υπήρξε αξιοθαύμαστη και συγκινητική η θετική ανταπόκριση των συντελεστών της Θεατρικής ομάδας του Συλλόγου Ποντίων Έδεσσας “Ο Άγιος Θεόδωρος Γαβράς” ως πολύτιμοι αρωγοί στην επίτευξη του σκοπού του Συλλόγου Εθελοντών Αιμοπεταλιοδοτών-Αιμοδοτών & Δωρητών Μυελού των Οστών Αλμωπίας “Προσφορά Ζωής”. \nΈτσι\, σύμφωνα με ομόφωνη απόφαση του Διοικητικού Συμβουλίου\, μέρος των εσόδων από την παράσταση της Κυριακής 4 Δεκέμβρη 2022 στο Ξενιτείδιο Πνευματικό Κέντρο Αριδαίας με το έργο “Τα κίτρινα γάντια”\, θα διατεθεί για την οικονομική ενίσχυση του Συλλόγου “Προσφορά Ζωής” μέλη του οποίου θα ενημερώσουν και θα πραγματοποιήσουν δειγματοληψία στοματικού υγρού για όσους θέλουν να γίνουν δωρητές μυελού των οστών. \nΤο έργο \nΑς μεταφερθούμε 70 χρόνια πριν. Το 1952 οι επονομαζόμενοι “Διόσκουροι του Ελληνικού Θεάτρου”\, Αλέκος Σακελλάριος-Χρήστος Γιαννακόπουλος\, συνέγραψαν το έργο “Η Ρένα εξόκειλλε” για τον άρχοντα της κωμωδίας Βασίλη Λογοθετίδη και τον θίασο του. Παραστάσεις ανεβαίνουν στο Θέατρο Κεντρικόν κατά την περίοδο 1952-1953 όπου παρά το γεγονός πως δεν σημειώνουν επιτυχία\, αποφασίζουν να μεταφέρουν το έργο από το “σανίδι” στο “πανί” ως είθισται εκείνη την εποχή\, με σκηνοθέτη τον Σακελλάριο. Εν μέσω προβών ο Λογοθετίδης αφήνει την τελευταία του πνοή στις 20 Φεβρουαρίου 1960. Τα γυρίσματα διακόπτονται\, το καστ αντικαθίσταται εξ ολοκλήρου και η ταινία κάνει πρεμιέρα στις 12 Δεκεμβρίου 1960 με τίτλο ‘ΤΑ ΚΙΤΡΙΝΑ ΓΑΝΤΙΑ”. Η κινηματογραφική μεταφορά είχε την ίδια τύχη με τις παραστάσεις καθώς κόπηκαν μόλις 27.787 εισιτήρια καταλαμβάνοντας την 18η θέση μεταξύ των ταινιών που προβλήθηκαν τη σεζόν 1960-1961. Σήμερα η ταινία θεωρείται κλασική και από τις πλέον αγαπημένες του κοινού\, οπότε θα αποφύγουμε τις συστάσεις. \nΠρωταγωνιστούν (με αλφαβητική σειρά) οι : Απάζογλου Δήμητρα\, Βυζοβίτης Περικλής\, Γαλανοπούλου Άννα\, Καντούτσης Γιάννης\, Κιοσκερίδου Πόπη\, Λιάκα Δέσποινα\, Μπακάλη Κική\, Νανόπουλος Παναγιώτης\, Ξενίδου Λίζα\, Τσακίρη Ελένη\, Φανιόπουλος Λάκης και Χουιαρίδου Ντίνα ενώ τραγουδούν ζωντανά επί σκηνής οι : Αντώνης Αντωνίου-Θοδωρής Παπαϊωάννου. Σε έκτακτη εμφάνιση η Χριστίνα Κιοσκερίδου. \nΣκηνοθεσία-Επιμέλεια παραγωγής: Δέσποινα Οτουντζίδου \nΤεχνική υποστήριξη Πέτρος Κριαρίδης \nΗ παραγωγή γίνεται με την υποστήριξη της Π.Ε. Πέλλας\, του Δήμου Έδεσσας\, της ΔΗ.Κ.Ε.Δ.Ε. καθώς και την πολύτιμη αρωγή των Συλλόγων Καρκινοπαθών Έδεσσας και περιχώρων & Εδεσσαίων Καλλιτεχνών ΑΠΕΛΛΗΣ.
URL:https://prosforazoisalmopia.gr/event/%cf%84%ce%b1-%ce%ba%ce%af%cf%84%cf%81%ce%b9%ce%bd%ce%b1-%ce%b3%ce%ac%ce%bd%cf%84%ce%b9%ce%b1/
LOCATION:Ξενιτίδειο Πνευματικό Κέντρο\, Λεωφόρος Ξενιτίδη\, Αριδαία\, Πέλλας\, 58400
CATEGORIES:Category Event
ATTACH;FMTTYPE=image/jpeg:https://prosforazoisalmopia.gr/wp-content/uploads/2022/12/kitrina-gantia.jpg
ORGANIZER;CN="%CE%94%CE%B7%CE%BC%CE%BF%CF%84%CE%B9%CE%BA%CE%AE %CE%9A%CE%BF%CE%B9%CE%BD%CF%89%CF%86%CE%B5%CE%BB%CE%AE%CF%82 %CE%95%CF%80%CE%B9%CF%87%CE%B5%CE%AF%CF%81%CE%B7%CF%83%CE%B7 %CE%91%CE%BB%CE%BC%CF%89%CF%80%CE%AF%CE%B1%CF%82 - %CE%94%CE%97%CE%9A%CE%95%CE%91":MAILTO:dimotikialmopias@gmail.com
END:VEVENT
END:VCALENDAR