BEGIN:VCALENDAR
VERSION:2.0
PRODID:-//prosforazoisalmopia - ECPv6.13.2.1//NONSGML v1.0//EN
CALSCALE:GREGORIAN
METHOD:PUBLISH
X-WR-CALNAME:prosforazoisalmopia
X-ORIGINAL-URL:https://prosforazoisalmopia.gr
X-WR-CALDESC:prosforazoisalmopia - Εκδηλώσεις
REFRESH-INTERVAL;VALUE=DURATION:PT1H
X-Robots-Tag:noindex
X-PUBLISHED-TTL:PT1H
BEGIN:VTIMEZONE
TZID:Europe/Helsinki
BEGIN:DAYLIGHT
TZOFFSETFROM:+0200
TZOFFSETTO:+0300
TZNAME:EEST
DTSTART:20220327T010000
END:DAYLIGHT
BEGIN:STANDARD
TZOFFSETFROM:+0300
TZOFFSETTO:+0200
TZNAME:EET
DTSTART:20221030T010000
END:STANDARD
END:VTIMEZONE
BEGIN:VEVENT
DTSTART;TZID=Europe/Helsinki:20221005T100000
DTEND;TZID=Europe/Helsinki:20221005T130000
DTSTAMP:20260424T065126
CREATED:20221005T172009Z
LAST-MODIFIED:20221108T173527Z
UID:3612-1664964000-1664974800@prosforazoisalmopia.gr
SUMMARY:Αιμοπεταλιαφαίρεση 05/10/2022
DESCRIPTION:Ένα τηλέφωνο από συντοπίτη μας που χρειάζεται αιμοπετάλια ήταν αρκετό για να είμαστε κοντά του. \nΕυχαριστούμε το Δήμο Αλμωπίας και τη ΔΗΚΕΑ για την παραχώρηση του βαν ώστε να μεταφερθούν 4 άτομα. \nΟι υπόλοιποι μεταφέρθηκαν με δικά τους ΙΧ. \nΣύνολο 11 άτομα! Γιατί όλοι μαζί μπορούμε!! \nΠροσφορά Ζωής για τον φίλο μας τον Χρήστο. \nΕυχή μας να γίνει γρήγορα καλά! \n  \n \n \n \n \n \n \n \n \n \n \n \n  \n 
URL:https://prosforazoisalmopia.gr/event/%ce%b1%ce%b9%ce%bc%ce%bf%cf%80%ce%b5%cf%84%ce%b1%ce%bb%ce%b9%ce%b1%cf%86%ce%b1%ce%af%cf%81%ce%b5%cf%83%ce%b7-15/
LOCATION:Τμήμα αιμοδοσίας και αιμοπεταλιοδοσίας Γ.Ν.Θ. Γ. Παπανικολάου\, Λεωφόρος Παπανικολάου 10\, Δήμος Χορτιάτη\, Εξοχή\, 57010\, Ελλάδα
CATEGORIES:Αιμοπεταλιαφαίρεση
ATTACH;FMTTYPE=image/jpeg:https://prosforazoisalmopia.gr/wp-content/uploads/2021/03/eisodos.jpg
END:VEVENT
END:VCALENDAR