BEGIN:VCALENDAR
VERSION:2.0
PRODID:-//prosforazoisalmopia - ECPv6.13.2.1//NONSGML v1.0//EN
CALSCALE:GREGORIAN
METHOD:PUBLISH
X-ORIGINAL-URL:https://prosforazoisalmopia.gr
X-WR-CALDESC:prosforazoisalmopia - Εκδηλώσεις
REFRESH-INTERVAL;VALUE=DURATION:PT1H
X-Robots-Tag:noindex
X-PUBLISHED-TTL:PT1H
BEGIN:VTIMEZONE
TZID:Europe/Helsinki
BEGIN:DAYLIGHT
TZOFFSETFROM:+0200
TZOFFSETTO:+0300
TZNAME:EEST
DTSTART:20220327T010000
END:DAYLIGHT
BEGIN:STANDARD
TZOFFSETFROM:+0300
TZOFFSETTO:+0200
TZNAME:EET
DTSTART:20221030T010000
END:STANDARD
END:VTIMEZONE
BEGIN:VEVENT
DTSTART;TZID=Europe/Helsinki:20220906T090000
DTEND;TZID=Europe/Helsinki:20220906T123000
DTSTAMP:20260424T085638
CREATED:20220906T174448Z
LAST-MODIFIED:20221108T175736Z
UID:3619-1662454800-1662467400@prosforazoisalmopia.gr
SUMMARY:Αιμοδοσία 06/09/2022
DESCRIPTION:Οι ανάγκες για αίμα είναι αυξημένες \nΤο τμήμα αιμοδοσίας του Γ.Ν. Έδεσσας θα βρίσκεται στο Ξενοδοχείο Λήδρα οδός Κύπρου (πεζόδρομο) για την καθιερωμένη αιμοδοσία του μήνα. \nΣυντοπίτες μας χρειάζονται αίμα και εμείς βρισκόμαστε δίπλα τους. \nΕυχαριστούμε όλους όσους συνέβαλλαν και ιδιαίτερα τον Κωνσταντίνο Καρυπίδη που μόλις έγινε 18 έδωσε για πρώτη φορά αίμα. \n \n \n \n 
URL:https://prosforazoisalmopia.gr/event/%ce%b1%ce%b9%ce%bc%ce%bf%ce%b4%ce%bf%cf%83%ce%af%ce%b1/
LOCATION:Ξενοδοχείο Λήδρα\, Κύπρου 26\, Αριδαία\, Πέλλας\, 58400\, Ελλάδα
CATEGORIES:Αιμοδοσία
ATTACH;FMTTYPE=image/jpeg:https://prosforazoisalmopia.gr/wp-content/uploads/2022/11/lidra-1.jpg
END:VEVENT
END:VCALENDAR