BEGIN:VCALENDAR
VERSION:2.0
PRODID:-//prosforazoisalmopia - ECPv6.13.2.1//NONSGML v1.0//EN
CALSCALE:GREGORIAN
METHOD:PUBLISH
X-ORIGINAL-URL:https://prosforazoisalmopia.gr
X-WR-CALDESC:prosforazoisalmopia - Εκδηλώσεις
REFRESH-INTERVAL;VALUE=DURATION:PT1H
X-Robots-Tag:noindex
X-PUBLISHED-TTL:PT1H
BEGIN:VTIMEZONE
TZID:Europe/Helsinki
BEGIN:DAYLIGHT
TZOFFSETFROM:+0200
TZOFFSETTO:+0300
TZNAME:EEST
DTSTART:20220327T010000
END:DAYLIGHT
BEGIN:STANDARD
TZOFFSETFROM:+0300
TZOFFSETTO:+0200
TZNAME:EET
DTSTART:20221030T010000
END:STANDARD
END:VTIMEZONE
BEGIN:VEVENT
DTSTART;TZID=Europe/Helsinki:20220901T100000
DTEND;TZID=Europe/Helsinki:20220901T130000
DTSTAMP:20260424T085705
CREATED:20220901T175949Z
LAST-MODIFIED:20221108T180743Z
UID:3625-1662026400-1662037200@prosforazoisalmopia.gr
SUMMARY:Αιμοπεταλιαφαίρεση 01/09/2022
DESCRIPTION:Οι ανάγκες για αιμοπετάλια δυστυχώς δε σταματάνε.\n\nΟι φίλοι μας Νίκος Χαράλαμπος και Εμμανουήλ σήμερα έδωσαν αιμοπετάλια βοηθώντας το σύλλογο μας Προσφορά Ζωής και ενισχύοντας το έργο του δικτύου αιμοπετάλιων .\n\nΝα είστε πάντα καλά φίλοι μου.
URL:https://prosforazoisalmopia.gr/event/%ce%b1%ce%b9%ce%bc%ce%bf%cf%80%ce%b5%cf%84%ce%b1%ce%bb%ce%b9%ce%b1%cf%86%ce%b1%ce%af%cf%81%ce%b5%cf%83%ce%b7-17/
LOCATION:Τμήμα αιμοδοσίας και αιμοπεταλιοδοσίας Γ.Ν.Θ. Γ. Παπανικολάου\, Λεωφόρος Παπανικολάου 10\, Δήμος Χορτιάτη\, Εξοχή\, 57010\, Ελλάδα
CATEGORIES:Αιμοπεταλιαφαίρεση
ATTACH;FMTTYPE=image/jpeg:https://prosforazoisalmopia.gr/wp-content/uploads/2021/03/ainopetalioafairesi-nosokomeioy.jpg
END:VEVENT
END:VCALENDAR