BEGIN:VCALENDAR
VERSION:2.0
PRODID:-//prosforazoisalmopia - ECPv6.13.2.1//NONSGML v1.0//EN
CALSCALE:GREGORIAN
METHOD:PUBLISH
X-ORIGINAL-URL:https://prosforazoisalmopia.gr
X-WR-CALDESC:prosforazoisalmopia - Εκδηλώσεις
REFRESH-INTERVAL;VALUE=DURATION:PT1H
X-Robots-Tag:noindex
X-PUBLISHED-TTL:PT1H
BEGIN:VTIMEZONE
TZID:Europe/Helsinki
BEGIN:DAYLIGHT
TZOFFSETFROM:+0200
TZOFFSETTO:+0300
TZNAME:EEST
DTSTART:20220327T010000
END:DAYLIGHT
BEGIN:STANDARD
TZOFFSETFROM:+0300
TZOFFSETTO:+0200
TZNAME:EET
DTSTART:20221030T010000
END:STANDARD
END:VTIMEZONE
BEGIN:VEVENT
DTSTART;TZID=Europe/Helsinki:20220830T100000
DTEND;TZID=Europe/Helsinki:20220830T120000
DTSTAMP:20260424T085644
CREATED:20220830T180832Z
LAST-MODIFIED:20221108T181602Z
UID:3628-1661853600-1661860800@prosforazoisalmopia.gr
SUMMARY:Αιμοπεταλιαφαίρεση 30/08/2022
DESCRIPTION:Πιστός στο ραντεβού του ο Κωνσταντίνος προσφέρει αιμοπετάλια. \nΤρέχει όλη μέρα αλλά βρίσκει το χρόνο για να πάει Θεσσαλονίκη να προσφέρει ότι πιο σημαντικό έχει.
URL:https://prosforazoisalmopia.gr/event/%ce%b1%ce%b9%ce%bc%ce%bf%cf%80%ce%b5%cf%84%ce%b1%ce%bb%ce%b9%ce%b1%cf%86%ce%b1%ce%af%cf%81%ce%b5%cf%83%ce%b7-18/
LOCATION:Τμήμα αιμοδοσίας και αιμοπεταλιοδοσίας Γ.Ν.Θ. Γ. Παπανικολάου\, Λεωφόρος Παπανικολάου 10\, Δήμος Χορτιάτη\, Εξοχή\, 57010\, Ελλάδα
CATEGORIES:Αιμοπεταλιαφαίρεση
ATTACH;FMTTYPE=image/jpeg:https://prosforazoisalmopia.gr/wp-content/uploads/2022/01/ethelontiki-aimodosia1.jpg
END:VEVENT
END:VCALENDAR