BEGIN:VCALENDAR
VERSION:2.0
PRODID:-//prosforazoisalmopia - ECPv6.13.2.1//NONSGML v1.0//EN
CALSCALE:GREGORIAN
METHOD:PUBLISH
X-WR-CALNAME:prosforazoisalmopia
X-ORIGINAL-URL:https://prosforazoisalmopia.gr
X-WR-CALDESC:prosforazoisalmopia - Εκδηλώσεις
REFRESH-INTERVAL;VALUE=DURATION:PT1H
X-Robots-Tag:noindex
X-PUBLISHED-TTL:PT1H
BEGIN:VTIMEZONE
TZID:Europe/Helsinki
BEGIN:DAYLIGHT
TZOFFSETFROM:+0200
TZOFFSETTO:+0300
TZNAME:EEST
DTSTART:20220327T010000
END:DAYLIGHT
BEGIN:STANDARD
TZOFFSETFROM:+0300
TZOFFSETTO:+0200
TZNAME:EET
DTSTART:20221030T010000
END:STANDARD
END:VTIMEZONE
BEGIN:VEVENT
DTSTART;TZID=Europe/Helsinki:20220802T090000
DTEND;TZID=Europe/Helsinki:20220802T123000
DTSTAMP:20260424T104302
CREATED:20220802T184612Z
LAST-MODIFIED:20221108T185324Z
UID:3632-1659430800-1659443400@prosforazoisalmopia.gr
SUMMARY:Αιμοδοσία 02/08/2022
DESCRIPTION:Οι ανάγκες της περιοχής πολλές και έτσι  η κινητή μονάδα αιμοδοσίας του Γ.Ν. Έδεσσας θα βρίσκεται στο ξενοδοχείο Λήδρα 9:00-13:00\, στο κέντρο της Αριδαίας για να μπορέσουν περισσότεροι συνάνθρωποι μας να βοηθήσουν τους συντοπίτες μας.\nΣας περιμένουμε
URL:https://prosforazoisalmopia.gr/event/%ce%b1%ce%b9%ce%bc%ce%bf%ce%b4%ce%bf%cf%83%ce%af%ce%b1-3/
LOCATION:Ξενοδοχείο Λήδρα\, Κύπρου 26\, Αριδαία\, Πέλλας\, 58400\, Ελλάδα
CATEGORIES:Αιμοδοσία
ATTACH;FMTTYPE=image/jpeg:https://prosforazoisalmopia.gr/wp-content/uploads/2022/11/lidra-1.jpg
END:VEVENT
END:VCALENDAR