BEGIN:VCALENDAR
VERSION:2.0
PRODID:-//prosforazoisalmopia - ECPv6.13.2.1//NONSGML v1.0//EN
CALSCALE:GREGORIAN
METHOD:PUBLISH
X-WR-CALNAME:prosforazoisalmopia
X-ORIGINAL-URL:https://prosforazoisalmopia.gr
X-WR-CALDESC:prosforazoisalmopia - Εκδηλώσεις
REFRESH-INTERVAL;VALUE=DURATION:PT1H
X-Robots-Tag:noindex
X-PUBLISHED-TTL:PT1H
BEGIN:VTIMEZONE
TZID:Europe/Helsinki
BEGIN:DAYLIGHT
TZOFFSETFROM:+0200
TZOFFSETTO:+0300
TZNAME:EEST
DTSTART:20220327T010000
END:DAYLIGHT
BEGIN:STANDARD
TZOFFSETFROM:+0300
TZOFFSETTO:+0200
TZNAME:EET
DTSTART:20221030T010000
END:STANDARD
END:VTIMEZONE
BEGIN:VEVENT
DTSTART;TZID=Europe/Helsinki:20220614T081500
DTEND;TZID=Europe/Helsinki:20220614T133000
DTSTAMP:20260424T141116
CREATED:20220610T140027Z
LAST-MODIFIED:20220610T140028Z
UID:3435-1655194500-1655213400@prosforazoisalmopia.gr
SUMMARY:Αιμοπεταλιαφαίρεση 14/06/2022
DESCRIPTION:Γιορτάζουμε την Παγκόσμια ημέρα εθελοντή αιμοδότη στις 14/06/2022 και ευαισθητοποιούμε τον κόσμο για την προσφορά αίματος\, αιμοπεταλίων και μυελού των οστών. \n9 άτομα μεταφέρονται στο Γ.Ν.Θ. Γ. Παπανικολάου για να προσφέρουν αίμα και αιμοπετάλια. \nΟι αιμοδότες μεταφέρονται με το βαν του Δήμου Αλμωπίας και της ΔΗΚΕΑ. \nΣας ευχαριστούμε
URL:https://prosforazoisalmopia.gr/event/%ce%b1%ce%b9%ce%bc%ce%bf%cf%80%ce%b5%cf%84%ce%b1%ce%bb%ce%b9%ce%b1%cf%86%ce%b1%ce%af%cf%81%ce%b5%cf%83%ce%b7-14-06-2022/
LOCATION:Τμήμα αιμοδοσίας και αιμοπεταλιοδοσίας Γ.Ν.Θ. Γ. Παπανικολάου\, Λεωφόρος Παπανικολάου 10\, Δήμος Χορτιάτη\, Εξοχή\, 57010\, Ελλάδα
CATEGORIES:Αιμοπεταλιαφαίρεση
ATTACH;FMTTYPE=image/jpeg:https://prosforazoisalmopia.gr/wp-content/uploads/2021/03/eisodos.jpg
END:VEVENT
BEGIN:VEVENT
DTSTART;TZID=Europe/Helsinki:20220614T090000
DTEND;TZID=Europe/Helsinki:20220614T133000
DTSTAMP:20260424T141116
CREATED:20220610T141148Z
LAST-MODIFIED:20220610T141629Z
UID:3437-1655197200-1655213400@prosforazoisalmopia.gr
SUMMARY:Αιμοδοσία 14/06/2022
DESCRIPTION:Γιορτάζουμε την Παγκόσμια ημέρα εθελοντή αιμοδότη στις 14/06/2022 και ευαισθητοποιούμε τον κόσμο για την προσφορά αίματος\, αιμοπεταλίων και μυελού των οστών. \n8 άτομα μεταφέρονται στο Γ. Ν. Έδεσσας για να προσφέρουν αίμα στους συντοπίτες τους. \nΗ μεταφορά γίνεται με ενοικιαζόμενο όχημα από το Σύλλογο Προσφορά Ζωής
URL:https://prosforazoisalmopia.gr/event/%ce%b1%ce%b9%ce%bc%ce%bf%ce%b4%ce%bf%cf%83%ce%af%ce%b1-14-06-2022/
LOCATION:Γενικό Νοσοκομείο Έδεσσας\, Τέρμα Εγνατίας\, Έδεσσα\, Πέλλας\, 58200\, Ελλάδα
CATEGORIES:Αιμοδοσία
ATTACH;FMTTYPE=image/jpeg:https://prosforazoisalmopia.gr/wp-content/uploads/2022/04/278065859_578360016479748_4177265490570321289_n.jpg
END:VEVENT
END:VCALENDAR