BEGIN:VCALENDAR
VERSION:2.0
PRODID:-//prosforazoisalmopia - ECPv6.13.2.1//NONSGML v1.0//EN
CALSCALE:GREGORIAN
METHOD:PUBLISH
X-ORIGINAL-URL:https://prosforazoisalmopia.gr
X-WR-CALDESC:prosforazoisalmopia - Εκδηλώσεις
REFRESH-INTERVAL;VALUE=DURATION:PT1H
X-Robots-Tag:noindex
X-PUBLISHED-TTL:PT1H
BEGIN:VTIMEZONE
TZID:Europe/Helsinki
BEGIN:DAYLIGHT
TZOFFSETFROM:+0200
TZOFFSETTO:+0300
TZNAME:EEST
DTSTART:20220327T010000
END:DAYLIGHT
BEGIN:STANDARD
TZOFFSETFROM:+0300
TZOFFSETTO:+0200
TZNAME:EET
DTSTART:20221030T010000
END:STANDARD
END:VTIMEZONE
BEGIN:VEVENT
DTSTART;TZID=Europe/Helsinki:20220420T083000
DTEND;TZID=Europe/Helsinki:20220420T083000
DTSTAMP:20260424T190347
CREATED:20220413T145825Z
LAST-MODIFIED:20220413T145825Z
UID:3338-1650443400-1650443400@prosforazoisalmopia.gr
SUMMARY:Αιμοπεταλιοδοσία 20/04/2022
DESCRIPTION:Μεγάλη Τετάρτη δίνουμε αίμα και αιμοπετάλια για τον συνάνθρωπό μας\, για να νιώσουν και αυτοί με τον τρόπο τους το θαύμα της Ανάστασης. \nΕυχαριστούμε το Δήμο Αλμωπίας και τη ΔΗΚΕΑ για την παραχώρηση του οχήματος και του οδηγού για τη μεταφορά των αιμοπεταλιοδοτών με άνεση και ασφάλεια στο Γ. Ν. Θ. Γ. Παπανικολάου.
URL:https://prosforazoisalmopia.gr/event/%ce%b1%ce%b9%ce%bc%ce%bf%cf%80%ce%b5%cf%84%ce%b1%ce%bb%ce%b9%ce%b1%cf%86%ce%b1%ce%af%cf%81%ce%b5%cf%83%ce%b7-10/
LOCATION:Τμήμα αιμοδοσίας και αιμοπεταλιοδοσίας Γ.Ν.Θ. Γ. Παπανικολάου\, Λεωφόρος Παπανικολάου 10\, Δήμος Χορτιάτη\, Εξοχή\, 57010\, Ελλάδα
CATEGORIES:Αιμοδοσία,Αιμοπεταλιαφαίρεση
ATTACH;FMTTYPE=image/jpeg:https://prosforazoisalmopia.gr/wp-content/uploads/2022/04/277969407_307088888218001_1971510989321847265_n.jpg
END:VEVENT
END:VCALENDAR