BEGIN:VCALENDAR
VERSION:2.0
PRODID:-//prosforazoisalmopia - ECPv6.13.2.1//NONSGML v1.0//EN
CALSCALE:GREGORIAN
METHOD:PUBLISH
X-ORIGINAL-URL:https://prosforazoisalmopia.gr
X-WR-CALDESC:prosforazoisalmopia - Εκδηλώσεις
REFRESH-INTERVAL;VALUE=DURATION:PT1H
X-Robots-Tag:noindex
X-PUBLISHED-TTL:PT1H
BEGIN:VTIMEZONE
TZID:Europe/Helsinki
BEGIN:DAYLIGHT
TZOFFSETFROM:+0200
TZOFFSETTO:+0300
TZNAME:EEST
DTSTART:20210328T010000
END:DAYLIGHT
BEGIN:STANDARD
TZOFFSETFROM:+0300
TZOFFSETTO:+0200
TZNAME:EET
DTSTART:20211031T010000
END:STANDARD
END:VTIMEZONE
BEGIN:VEVENT
DTSTART;TZID=Europe/Helsinki:20211213T080000
DTEND;TZID=Europe/Helsinki:20211213T170000
DTSTAMP:20260424T231359
CREATED:20220105T141244Z
LAST-MODIFIED:20220105T141244Z
UID:2850-1639382400-1639414800@prosforazoisalmopia.gr
SUMMARY:Αιμοπεταλιαφαίρεση 13.12.2021
DESCRIPTION:Όταν υπάρχει ανάγκη για αιμοπετάλια\, τίποτα δεν τους σταματά\, ούτε ο καιρός.\nΕυχαριστούμε το #ΔήμοςΑλμωπίας και τη #ΔΗΚΕΑ για την παραχώρηση του βαν\n\nΓιώργος Τσιμτσιρίδης (οδηγός)\nΜαρία Βαρελά\nΝίκος Βολιώτης\nΔημήτρης Τζάτζης\n\n   \n\n\nhttps://prosforazoisalmopia.gr/wp-content/uploads/2022/01/13-12-2021-aimopetalia.mp4
URL:https://prosforazoisalmopia.gr/event/%ce%b1%ce%b9%ce%bc%ce%bf%cf%80%ce%b5%cf%84%ce%b1%ce%bb%ce%b9%ce%b1%cf%86%ce%b1%ce%af%cf%81%ce%b5%cf%83%ce%b7-13-12-2021/
LOCATION:Τμήμα αιμοδοσίας και αιμοπεταλιοδοσίας Γ.Ν.Θ. Γ. Παπανικολάου\, Λεωφόρος Παπανικολάου 10\, Δήμος Χορτιάτη\, Εξοχή\, 57010\, Ελλάδα
CATEGORIES:Αιμοπεταλιαφαίρεση
ATTACH;FMTTYPE=image/jpeg:https://prosforazoisalmopia.gr/wp-content/uploads/2022/01/eisodos.jpg
END:VEVENT
END:VCALENDAR